BEGIN:VCALENDAR
VERSION:2.0
PRODID:-//AMA Boston - ECPv6.15.20//NONSGML v1.0//EN
CALSCALE:GREGORIAN
METHOD:PUBLISH
X-WR-CALNAME:AMA Boston
X-ORIGINAL-URL:https://amaboston.org
X-WR-CALDESC:Events for AMA Boston
REFRESH-INTERVAL;VALUE=DURATION:PT1H
X-Robots-Tag:noindex
X-PUBLISHED-TTL:PT1H
BEGIN:VTIMEZONE
TZID:America/New_York
BEGIN:DAYLIGHT
TZOFFSETFROM:-0500
TZOFFSETTO:-0400
TZNAME:EDT
DTSTART:20250309T070000
END:DAYLIGHT
BEGIN:STANDARD
TZOFFSETFROM:-0400
TZOFFSETTO:-0500
TZNAME:EST
DTSTART:20251102T060000
END:STANDARD
BEGIN:DAYLIGHT
TZOFFSETFROM:-0500
TZOFFSETTO:-0400
TZNAME:EDT
DTSTART:20260308T070000
END:DAYLIGHT
BEGIN:STANDARD
TZOFFSETFROM:-0400
TZOFFSETTO:-0500
TZNAME:EST
DTSTART:20261101T060000
END:STANDARD
BEGIN:DAYLIGHT
TZOFFSETFROM:-0500
TZOFFSETTO:-0400
TZNAME:EDT
DTSTART:20270314T070000
END:DAYLIGHT
BEGIN:STANDARD
TZOFFSETFROM:-0400
TZOFFSETTO:-0500
TZNAME:EST
DTSTART:20271107T060000
END:STANDARD
END:VTIMEZONE
BEGIN:VEVENT
DTSTART;TZID=America/New_York:20260421T180000
DTEND;TZID=America/New_York:20260421T190000
DTSTAMP:20260421T093955
CREATED:20260324T235314Z
LAST-MODIFIED:20260324T235314Z
UID:15276-1776794400-1776798000@amaboston.org
SUMMARY:AMA Boston April (Virtual) Meet Up
DESCRIPTION:ByAMA Boston\n\nFollowing\n\n\n\nOnline event \nTuesday\, Apr 21 from 6 pm to 7 pm EDT\n\n\n\nOverview\n\n\n\n\nGet ready to mix and mingle with your fellow marketers online during our April Virtual Networking Meet-up on April 21st! \n\n\n\n\nAMA Boston invites you to our April Virtual Networking Meet-up from 6:00 pm – 7:00 pm on Tuesday\, April 21st! \nJoin us for a fun hour of networking and socializing with other marketing professionals. Don’t miss this opportunity to connect with like-minded individuals in a relaxed and casual setting. Our hosts\, Erica Brookhyser and Shawn Fitzmaurice\, will kick the evening off – sometimes with a guest speaker or optional topic – before you jump into breakout rooms to continue the conversation. \nCome ready to share ideas\, make new contacts\, and have a great time! We look forward to seeing you there! \nWhat participants have said: \n\n\n\n\n\n\n\n\n\nSponsorships \nWant to become a sponsor of this event or a future AMA Boston event? Reach out to sponsorship@amaboston.org! \n\n\n\n\nPlatinum Sponsor: \nWe extend our sincere gratitude to our Platinum Sponsor\, Brick Marketing\, for their generous sponsorship. Your partnership is truly appreciated and instrumental to our success. \nFor more information\, click here. \n\n\n\n\n\n\n\n\n\nAbout the American Marketing Association (AMA) Boston: \nThe American Marketing Association (AMA) Boston is the networking and educational hub for New England marketers. Our mission is to build a community of marketers who can share experiences\, learn about the latest marketing trends\, and build a powerful professional network. AMA Boston empowers its members with the knowledge and resources they need to be leaders in their careers and organizations. Learn more at https://www.amaboston.org. \n—– \nAny questions? Please reach out to us at theoffice@amaboston.org! \n\n\n\n\n\n\n\n\n\n\n\n\n\nRead less\n\n\n\n\n\n\n\nGood to know\n\n\n\n\n\nHighlights \n\n\n1 hour\nOnline\n\n\n\n\n\n\n\n\n\n\n\n\n\nLocation\n\nOnline event\n\n\n\n\n\n\nOrganized by\n\n\n\n\n\nAMA Boston \n\nFollowers843\nEvents283\nHosting17 years\n\n\n\nContact \nFollowing\n\n\n\n\n\n\nReport this event
URL:https://amaboston.org/event/ama-boston-april-virtual-meet-up-2/
LOCATION:Online
END:VEVENT
END:VCALENDAR