BEGIN:VCALENDAR
VERSION:2.0
PRODID:-//AMA Boston - ECPv6.15.20//NONSGML v1.0//EN
CALSCALE:GREGORIAN
METHOD:PUBLISH
X-ORIGINAL-URL:https://amaboston.org
X-WR-CALDESC:Events for AMA Boston
REFRESH-INTERVAL;VALUE=DURATION:PT1H
X-Robots-Tag:noindex
X-PUBLISHED-TTL:PT1H
BEGIN:VTIMEZONE
TZID:America/New_York
BEGIN:DAYLIGHT
TZOFFSETFROM:-0500
TZOFFSETTO:-0400
TZNAME:EDT
DTSTART:20210314T070000
END:DAYLIGHT
BEGIN:STANDARD
TZOFFSETFROM:-0400
TZOFFSETTO:-0500
TZNAME:EST
DTSTART:20211107T060000
END:STANDARD
BEGIN:DAYLIGHT
TZOFFSETFROM:-0500
TZOFFSETTO:-0400
TZNAME:EDT
DTSTART:20220313T070000
END:DAYLIGHT
BEGIN:STANDARD
TZOFFSETFROM:-0400
TZOFFSETTO:-0500
TZNAME:EST
DTSTART:20221106T060000
END:STANDARD
BEGIN:DAYLIGHT
TZOFFSETFROM:-0500
TZOFFSETTO:-0400
TZNAME:EDT
DTSTART:20230312T070000
END:DAYLIGHT
BEGIN:STANDARD
TZOFFSETFROM:-0400
TZOFFSETTO:-0500
TZNAME:EST
DTSTART:20231105T060000
END:STANDARD
END:VTIMEZONE
BEGIN:VEVENT
DTSTART;TZID=America/New_York:20220826T173000
DTEND;TZID=America/New_York:20220826T200000
DTSTAMP:20260421T210415
CREATED:20220822T140147Z
LAST-MODIFIED:20220823T011850Z
UID:12676-1661535000-1661544000@amaboston.org
SUMMARY:Pop Up Networking Event Lawn D St.
DESCRIPTION:Register Today! \nJoin us Friday\, August 26th at 5:30 PM \nIn-person networking is back at a very cool venue! \nThere will be concessions\, lawn games\, music\, and their trademark swings available. \nWe will be joining an “open lawn” day which is open to the public. Look for our logo sign and the most enthusiastic networking group there! \n 
URL:https://amaboston.org/event/pop-up-networking-event-lawn-d-st/
LOCATION:MA
CATEGORIES:Community
ATTACH;FMTTYPE=image/jpeg:https://amaboston.org/wp-content/uploads/2022/08/Marketing-Mingle-Twitter-Post.jpg
END:VEVENT
END:VCALENDAR