BEGIN:VCALENDAR
VERSION:2.0
PRODID:-//AMA Boston - ECPv6.15.20//NONSGML v1.0//EN
CALSCALE:GREGORIAN
METHOD:PUBLISH
X-ORIGINAL-URL:https://amaboston.org
X-WR-CALDESC:Events for AMA Boston
REFRESH-INTERVAL;VALUE=DURATION:PT1H
X-Robots-Tag:noindex
X-PUBLISHED-TTL:PT1H
BEGIN:VTIMEZONE
TZID:America/New_York
BEGIN:DAYLIGHT
TZOFFSETFROM:-0500
TZOFFSETTO:-0400
TZNAME:EDT
DTSTART:20200308T070000
END:DAYLIGHT
BEGIN:STANDARD
TZOFFSETFROM:-0400
TZOFFSETTO:-0500
TZNAME:EST
DTSTART:20201101T060000
END:STANDARD
BEGIN:DAYLIGHT
TZOFFSETFROM:-0500
TZOFFSETTO:-0400
TZNAME:EDT
DTSTART:20210314T070000
END:DAYLIGHT
BEGIN:STANDARD
TZOFFSETFROM:-0400
TZOFFSETTO:-0500
TZNAME:EST
DTSTART:20211107T060000
END:STANDARD
BEGIN:DAYLIGHT
TZOFFSETFROM:-0500
TZOFFSETTO:-0400
TZNAME:EDT
DTSTART:20220313T070000
END:DAYLIGHT
BEGIN:STANDARD
TZOFFSETFROM:-0400
TZOFFSETTO:-0500
TZNAME:EST
DTSTART:20221106T060000
END:STANDARD
END:VTIMEZONE
BEGIN:VEVENT
DTSTART;TZID=America/New_York:20211201T190000
DTEND;TZID=America/New_York:20211201T200000
DTSTAMP:20260423T155319
CREATED:20211130T052130Z
LAST-MODIFIED:20211130T062623Z
UID:12269-1638385200-1638388800@amaboston.org
SUMMARY:Twitter Space: Ask Me Anything
DESCRIPTION:Ask Me Anything(AMA) is a recent trend on social media\, where topics aren’t decided ahead of time. Since our organization can be abbreviated to AMA\, we thought we would participate! Join us on Wednesday night with our friends from AMA – Pittsburgh. Topics can include\, what it’s like being a part of the American Marketing Association\, Marketing Trends during the holidays and beyond in 2022 or something specific like what’s the benefit of using Tik Tok for your small business. \n \nTwitter Spaces has evolved into an incredible platform for all parties involved. And\, if you haven’t participated in a very casual format of listening like you would a live podcast but have the ability to request to join the conversation in real time! Sessions will be recorded for future viewing.
URL:https://amaboston.org/event/twitter-space-ask-me-anything-with-ama-boston/
LOCATION:Online
CATEGORIES:Online
ATTACH;FMTTYPE=image/jpeg:https://amaboston.org/wp-content/uploads/2021/11/AMA-Logo.jpeg
END:VEVENT
BEGIN:VEVENT
DTSTART;TZID=America/New_York:20211216T190000
DTEND;TZID=America/New_York:20211216T200000
DTSTAMP:20260423T155319
CREATED:20211116T140715Z
LAST-MODIFIED:20211116T140850Z
UID:12242-1639681200-1639684800@amaboston.org
SUMMARY:AMA Boston Holiday Party
DESCRIPTION:Register now! \n\n\n\nJoin AMA Boston for a fun night of networking and connecting with your peers.\n\n\n\n\n\nAbout this event\n\n\nGrab a festive drink and join AMA Boston for a fun and festive night of holiday networking\, drinks\, music and more!\nAgenda: \n\nWe’ll kick off the night with our ugly sweater contest! Put on your best ugly sweater and our panel of judges will pick a winner who will receive a prize.\nWe’ll then break up into teams for our team trivia! This is a fun opportunity to test your marketing knowledge and work together with your peers. The winning team will receive a prize.\nWe’ll end the evening by breaking out into groups to connect with one another\, make new friends and spread seasonal cheer.
URL:https://amaboston.org/event/ama-boston-holiday-party/
LOCATION:Online
CATEGORIES:Online
ATTACH;FMTTYPE=image/jpeg:https://amaboston.org/wp-content/uploads/2021/11/2021-AMA-Boston-Holiday-Party-1.jpg
END:VEVENT
END:VCALENDAR