BEGIN:VCALENDAR
VERSION:2.0
PRODID:-//AMA Boston - ECPv6.15.20//NONSGML v1.0//EN
CALSCALE:GREGORIAN
METHOD:PUBLISH
X-ORIGINAL-URL:https://amaboston.org
X-WR-CALDESC:Events for AMA Boston
REFRESH-INTERVAL;VALUE=DURATION:PT1H
X-Robots-Tag:noindex
X-PUBLISHED-TTL:PT1H
BEGIN:VTIMEZONE
TZID:America/New_York
BEGIN:DAYLIGHT
TZOFFSETFROM:-0500
TZOFFSETTO:-0400
TZNAME:EDT
DTSTART:20210314T070000
END:DAYLIGHT
BEGIN:STANDARD
TZOFFSETFROM:-0400
TZOFFSETTO:-0500
TZNAME:EST
DTSTART:20211107T060000
END:STANDARD
BEGIN:DAYLIGHT
TZOFFSETFROM:-0500
TZOFFSETTO:-0400
TZNAME:EDT
DTSTART:20220313T070000
END:DAYLIGHT
BEGIN:STANDARD
TZOFFSETFROM:-0400
TZOFFSETTO:-0500
TZNAME:EST
DTSTART:20221106T060000
END:STANDARD
BEGIN:DAYLIGHT
TZOFFSETFROM:-0500
TZOFFSETTO:-0400
TZNAME:EDT
DTSTART:20230312T070000
END:DAYLIGHT
BEGIN:STANDARD
TZOFFSETFROM:-0400
TZOFFSETTO:-0500
TZNAME:EST
DTSTART:20231105T060000
END:STANDARD
END:VTIMEZONE
BEGIN:VTIMEZONE
TZID:UTC
BEGIN:STANDARD
TZOFFSETFROM:+0000
TZOFFSETTO:+0000
TZNAME:UTC
DTSTART:20210101T000000
END:STANDARD
END:VTIMEZONE
BEGIN:VEVENT
DTSTART;TZID=America/New_York:20220317T180000
DTEND;TZID=America/New_York:20220317T190000
DTSTAMP:20260423T103857
CREATED:20220204T163633Z
LAST-MODIFIED:20220227T214716Z
UID:12338-1647540000-1647543600@amaboston.org
SUMMARY:March Marketing Mingle
DESCRIPTION:Register now! \n\n\n\nJoin the AMA Boston community for a night of networking and connecting with like-minded marketers.\n\n\n\n\n\nAbout this event\n\n\nMeet other Boston marketers virtually for an evening of networking. \nWe’ll kick the night off with a Q&A session on the topic of “Restoring Trust in Social Media: What Technology Should You Be Considering For Your Brands?” with our guest speaker Peter Prodromou\, CEO & President at Boston Digital. We’ll then mingle in breakout groups to make new friends and network. \n\nAbout the speaker:\nAn accomplished CEO\, business leader\, and industry visionary\, Peter recognized the power of digital persuasion early on. As President and CEO of Boston Digital\, he runs the day-to-day operations of the company and works across teams to deliver powerful strategy and world-class product. Previously\, Peter led Racepoint Global to its position as the top technology and health firm in the country. He’s brokered sales for global enterprises\, counseled presidential candidates\, and set the industry vision for driving growth through digital activation. Peter is inspired to help brands stay relevant in an increasingly competitive economy through the power of digital for persuasion and is especially proud of his ability to manage a global company on a handheld device. \nPeter brings a sense of humor and calming vibes to the office and has led companies to four Best Places to Work awards. When he’s not encouraging clients to break the mold or showing a 200-year-old brand how to be relevant in the digital age\, Peter spends time reading about politics and public policy and hiking with his wife and Australian Shepard.
URL:https://amaboston.org/event/march-marketing-mingle/
LOCATION:Online
CATEGORIES:Online
ATTACH;FMTTYPE=image/jpeg:https://amaboston.org/wp-content/uploads/2022/02/March-2022-Networking-Event-updated.jpg
END:VEVENT
BEGIN:VEVENT
DTSTART;TZID=UTC:20220331T190000
DTEND;TZID=UTC:20220331T200000
DTSTAMP:20260423T103857
CREATED:20220304T190738Z
LAST-MODIFIED:20220314T180807Z
UID:12385-1648753200-1648756800@amaboston.org
SUMMARY:NFTs: What Are NFTs and How Can Marketers Use Them Effectively
DESCRIPTION:Register now! \nAbout this event\n\n\nBy now\, you have likely heard of NFTs. But did you know you can be using them in your marketing efforts? \nOn Thursday\, March 31st\, we will be joined by experts Jen Faucon and Lee Huang to dive into the topic of NFTs. We will be covering topics such as: \n– What are NFTs \n– Why NFTs are so popular \n– How marketers are using NFTs \n– Should you and your company be using NFTs \n– And much more! \nAbout the speakers:\nJen Faucon is a global marketing and program director with expertise in digital\, branding\, CRM and technology. Jen led a variety of organizations through the digital revolution at McCann\, BBDO and iProspect for powerhouse global brands General Motors\, Visa\, Microsoft\, MasterCard\, Nestle\, and UPS. Additionally\, Jen led technology start-ups as Chief Marketing Officer and Chief Customer Experience Officer. Jen’s reach includes 10 years in APAC and MENA. Jen is presently with the foundation at the United States Council for International Business\, engaging the private sector to achieve the UN Sustainable Development Goals. \nLee is a digital strategy and product innovation leader with expertise in creating award-winning customer experiences\, accelerating deployment of new technologies\, and delivering transformative business solutions. He has built successful\, global D2C and B2B businesses at industry leaders including NBC Universal\, Barnes & Noble\, Nielsen Business Media and Pepsi\, and also consulted for Amazon Studios\, Starbucks and Hearst. Lee is presently advising companies on digital transformation\, AI\, NFTs\, augmented reality and subscription services. Lee is a TechStars mentor and regularly speaks at industry events about all things digital. You can contact Lee at leehuangdigital@gmail.com. 
URL:https://amaboston.org/event/nfts-what-are-they-and-how-can-marketers-use-them/
LOCATION:Online
CATEGORIES:Online
ATTACH;FMTTYPE=image/jpeg:https://amaboston.org/wp-content/uploads/2022/03/NFTs-4.jpg
END:VEVENT
END:VCALENDAR