BEGIN:VCALENDAR
VERSION:2.0
PRODID:-//AMA Boston - ECPv6.15.20//NONSGML v1.0//EN
CALSCALE:GREGORIAN
METHOD:PUBLISH
X-ORIGINAL-URL:https://amaboston.org
X-WR-CALDESC:Events for AMA Boston
REFRESH-INTERVAL;VALUE=DURATION:PT1H
X-Robots-Tag:noindex
X-PUBLISHED-TTL:PT1H
BEGIN:VTIMEZONE
TZID:UTC
BEGIN:STANDARD
TZOFFSETFROM:+0000
TZOFFSETTO:+0000
TZNAME:UTC
DTSTART:20210101T000000
END:STANDARD
END:VTIMEZONE
BEGIN:VEVENT
DTSTART;TZID=UTC:20220525T090000
DTEND;TZID=UTC:20220525T100000
DTSTAMP:20260423T062827
CREATED:20220518T103749Z
LAST-MODIFIED:20220520T181033Z
UID:12547-1653469200-1653472800@amaboston.org
SUMMARY:Twitter Spaces: Chat With Mark Schaefer - Marketing & The Journey Towards Success
DESCRIPTION:Join us on Wednesday\, May 25th at 9am for a Twitter Spaces chat with Mark Schaefer. We will be chatting about content marketing and the journey towards success. You can access the chat here: https://twitter.com/i/spaces/1PlJQayrgpnJE \n\nMark W. Schaefer is a globally-recognized author\, keynote speaker\, futurist\, and business consultant who blogs at {grow} — one of the top five marketing blogs of the world. He teaches graduate marketing classes at Rutgers University and has written nine best-selling books. Mark’s new book Cumulative Advantage: How to Build Momentum for Your Ideas\, Business and Life Against All Odds is an essential new path to being seen and heard in a busy world. His many global clients include Pfizer\, Cisco\, Dell\, Adidas\, and the US Air Force. He has been a keynote speaker at prestigious events all over the world including SXSW\, Marketing Summit Tokyo\, and the Institute for International and European Affairs. Mark has appeared as a guest on media channels such as CNN\, The Wall Street Journal\, The New York Times and CBS News. \nTwitter accounts aren’t required to listen either on desktop or mobile\, either in real-time or recorded. Twitter Spaces does permit joining the conversation on request\, via a mobile device\, and an active Twitter account.  Reach out to our Twitter Director – Brian Hurst bhurst09@gmail.com with any questions including any questions you have for Mark\, time permitting.
URL:https://amaboston.org/event/twitter-spaces-chat-with-mark-shaefer-marketing-the-journey-towards-success/
LOCATION:Online
CATEGORIES:Online
ATTACH;FMTTYPE=image/jpeg:https://amaboston.org/wp-content/uploads/2022/05/Copy-of-Influencer-Marketing-V2.jpg
END:VEVENT
BEGIN:VEVENT
DTSTART;TZID=UTC:20220531T160000
DTEND;TZID=UTC:20220531T170000
DTSTAMP:20260423T062827
CREATED:20220527T170135Z
LAST-MODIFIED:20220809T155222Z
UID:12570-1654012800-1654016400@amaboston.org
SUMMARY:May Twitter Chat: with Evan Kirstel of eViRa Health\, Chief Digital Evangelist and Co-Founder
DESCRIPTION:May Twitter Chat: with Evan Kirstel of eViRa Health\, Chief Digital Evangelist and Co-Founder.\n\nWhen: May 31st at 4pm EDT\nWhat: The future of social media and more.\nHow: www.twitter.com/amaboston or using #AMABCHAT\n\nEvan is a Boston area tech influencer\, especially in the enterprise sector. He has over 400\,000 social connections. He is also a podcaster with both “Talking Headz” and “Data Movers” If you were to research Evan his four most popular search terms are typically Linkedin\, Twitter\, Youtube\, and Forbes.\n\nJoin us live or after by answering questions alongside Evan’s responses to give your point of view. Don’t have Twitter but still want to see the chat? -> Search AMABoston twitter and see the tweets live or after.
URL:https://amaboston.org/event/may-twitter-chat-with-evan-kirstel-of-evira-health/
LOCATION:Online
CATEGORIES:Online
ATTACH;FMTTYPE=image/jpeg:https://amaboston.org/wp-content/uploads/2022/05/531-TwitterChatPromo-1.jpg
END:VEVENT
END:VCALENDAR