BEGIN:VCALENDAR
VERSION:2.0
PRODID:-//AMA Boston - ECPv6.15.20//NONSGML v1.0//EN
CALSCALE:GREGORIAN
METHOD:PUBLISH
X-ORIGINAL-URL:https://amaboston.org
X-WR-CALDESC:Events for AMA Boston
REFRESH-INTERVAL;VALUE=DURATION:PT1H
X-Robots-Tag:noindex
X-PUBLISHED-TTL:PT1H
BEGIN:VTIMEZONE
TZID:America/New_York
BEGIN:DAYLIGHT
TZOFFSETFROM:-0500
TZOFFSETTO:-0400
TZNAME:EDT
DTSTART:20230312T070000
END:DAYLIGHT
BEGIN:STANDARD
TZOFFSETFROM:-0400
TZOFFSETTO:-0500
TZNAME:EST
DTSTART:20231105T060000
END:STANDARD
BEGIN:DAYLIGHT
TZOFFSETFROM:-0500
TZOFFSETTO:-0400
TZNAME:EDT
DTSTART:20240310T070000
END:DAYLIGHT
BEGIN:STANDARD
TZOFFSETFROM:-0400
TZOFFSETTO:-0500
TZNAME:EST
DTSTART:20241103T060000
END:STANDARD
BEGIN:DAYLIGHT
TZOFFSETFROM:-0500
TZOFFSETTO:-0400
TZNAME:EDT
DTSTART:20250309T070000
END:DAYLIGHT
BEGIN:STANDARD
TZOFFSETFROM:-0400
TZOFFSETTO:-0500
TZNAME:EST
DTSTART:20251102T060000
END:STANDARD
END:VTIMEZONE
BEGIN:VEVENT
DTSTART;TZID=America/New_York:20240620T180000
DTEND;TZID=America/New_York:20240620T193000
DTSTAMP:20260425T170900
CREATED:20240610T141654Z
LAST-MODIFIED:20240610T141654Z
UID:13674-1718906400-1718911800@amaboston.org
SUMMARY:Attract Your Ideal Clients Online Event
DESCRIPTION:Date and time\n\n\n \n\nThursday\, June 20 · 6 – 7:30pm EDT\n\n\n\n\n\n\n\n\n\n\n\n\n\n\nLocation\n\n \n\nOnline \n\n\n\n\n\n\n\n\n\n\n\nAbout this event\n\n\n1 hour 30 minutes\n\n\n\n\n\n\nJoin AMA Boston and Kris Bryant for a workshop about mastering the art of booking 40+ sales meetings per month on Thursday\, June 20th\, at 6:00 PM ET ONLINE! \nDuring this workshop\, Kris provides practical tips\,tools\, and strategies to: \n\nConsistently book an extra 40 sales meetings every month\nIncrease sales online without burning out\nNever run out of new leads\nLeverage popular podcasts to book your calendar with warm leads ready to buy!\n\n—– \nAbout Kris Bryant \nKris Bryant is a sought after social media and branding strategiest. Her passion is helping leaders and entrepreneurs go from unseen to unforgettable online. She helps them accomplish this through effective marketing strategies. \nHer inspiring content helped her brand amass an engaged audience of 115K+ on social media. People gravitate towards Kris to learn ways to level up on social media without burning out. Kris’ work can be seen in The US Sun and Forbes. \n—– \nAbout AMA Boston \nThe American Marketing Association (AMA) Boston is the networking and educational hub for New England marketers. Our mission is to build a community of marketers who can share experiences\, learn about the latest marketing trends\, and build a powerful professional network. AMA Boston empowers its members with the knowledge and resources they need to be leaders in their careers and organizations. Learn more at https://www.amaboston.org. \n—– \nAny questions? Please reach out to us at theoffice@amaboston.org!
URL:https://amaboston.org/event/attract-your-ideal-clients-online-event/
CATEGORIES:Community,Online,Outreach
ATTACH;FMTTYPE=image/jpeg:https://amaboston.org/wp-content/uploads/2024/06/https___cdn.evbuc_.com_images_784868989_111787070_1_original.jpg
END:VEVENT
END:VCALENDAR