BEGIN:VCALENDAR
VERSION:2.0
PRODID:-//AMA Boston - ECPv6.15.20//NONSGML v1.0//EN
CALSCALE:GREGORIAN
METHOD:PUBLISH
X-WR-CALNAME:AMA Boston
X-ORIGINAL-URL:https://amaboston.org
X-WR-CALDESC:Events for AMA Boston
REFRESH-INTERVAL;VALUE=DURATION:PT1H
X-Robots-Tag:noindex
X-PUBLISHED-TTL:PT1H
BEGIN:VTIMEZONE
TZID:America/New_York
BEGIN:DAYLIGHT
TZOFFSETFROM:-0500
TZOFFSETTO:-0400
TZNAME:EDT
DTSTART:20250309T070000
END:DAYLIGHT
BEGIN:STANDARD
TZOFFSETFROM:-0400
TZOFFSETTO:-0500
TZNAME:EST
DTSTART:20251102T060000
END:STANDARD
BEGIN:DAYLIGHT
TZOFFSETFROM:-0500
TZOFFSETTO:-0400
TZNAME:EDT
DTSTART:20260308T070000
END:DAYLIGHT
BEGIN:STANDARD
TZOFFSETFROM:-0400
TZOFFSETTO:-0500
TZNAME:EST
DTSTART:20261101T060000
END:STANDARD
BEGIN:DAYLIGHT
TZOFFSETFROM:-0500
TZOFFSETTO:-0400
TZNAME:EDT
DTSTART:20270314T070000
END:DAYLIGHT
BEGIN:STANDARD
TZOFFSETFROM:-0400
TZOFFSETTO:-0500
TZNAME:EST
DTSTART:20271107T060000
END:STANDARD
END:VTIMEZONE
BEGIN:VEVENT
DTSTART;TZID=America/New_York:20260513T180000
DTEND;TZID=America/New_York:20260513T200000
DTSTAMP:20260419T090212
CREATED:20260409T152355Z
LAST-MODIFIED:20260419T121611Z
UID:15311-1778695200-1778702400@amaboston.org
SUMMARY:AMA Boston: May Marketing Mingle
DESCRIPTION:  \n\n\n\n\n\n\nGet ready to mix and mingle with your fellow marketers at the May Marketing Mingle at The Grog Restuarant on May 13 at 6:00 – 8:00 PM.\n\n\n\nAMA Boston invites you to our May Marketing Mingle at The Grog Restaurant in Newburyport\, MA from 6:00 pm – 8:00 pm on Wednesday May 13th. \nJoin us for a fun and productive evening of networking and socializing with other marketing professionals. Don’t miss this opportunity to connect with like-minded individuals in a relaxed and casual setting. \nCome ready to share ideas\, make new contacts\, and have a great time! We look forward to seeing you there! \n—– \nSponsorships \nWant to become a sponsor of this event or a future AMA Boston event? Reach out to sponsorship@amaboston.org! \n—– \n\n\n\n\nPlatinum Sponsor: \nWe extend our sincere gratitude to our Platinum Sponsor\, Brick Marketing\, for their generous sponsorship. Your partnership is truly appreciated and instrumental to our success. \nFor more information\, click here. \n\n\n\n\n\n\n\n\n\nAbout the American Marketing Association (AMA) Boston: \nThe American Marketing Association (AMA) Boston is the networking and educational hub for New England marketers. Our mission is to build a community of marketers who can share experiences\, learn about the latest marketing trends\, and build a powerful professional network. AMA Boston empowers its members with the knowledge and resources they need to be leaders in their careers and organizations. Learn more at https://www.amaboston.org. \n—– \nAny questions? Please reach out to us at theoffice@amaboston.org! \n\n\n\n\n\n\n\n\n\n\n\n\n\nRead less\n\n\n\n\n\n\n\nGood to know\n\n\n\n\n\nHighlights \n\n\n2 hours\nIn person\n\n\n\n\n\n\nRefund Policy \nRefunds up to 7 days before event\n\n\n\n\n\n\n\n\n\n\n\nLocation\n\n\n\nThe Grog Restaurant\n\n13 Middle Street \nNewburyport\, MA 01950 \n\n\n\n\n\n\n\nHow do you want to get there?\n\n\nDriving\nPublic transport\nBiking\nWalking\n\n\n\n\nShow map\n\n\n\n\n\n\n\n\nAgenda\n\n\n\n06:00 PM – 08:00 PM \nAgenda\n\n\n\n\n\n\n\n\n\nOrganized by\n\n\n\n\n\n\nAMA Boston \n\nFollowers851\nEvents283\nHosting17 years\n\n\n\n\nContact \nFollowing\n\n\n\n\n\n\nReport this event\n\n\n[/fusion_text][/fusion_builder_column][/fusion_builder_row][/fusion_builder_container]
URL:https://amaboston.org/event/ama-boston-may-marketing-mingle-2/
LOCATION:Newburyport\, The Grog Restaurant 13 Middle Street\, MA\, 01950\, United States
ATTACH;FMTTYPE=image/png:https://amaboston.org/wp-content/uploads/2026/04/Screenshot-2026-04-19-at-08.15.13.png
END:VEVENT
BEGIN:VEVENT
DTSTART;TZID=America/New_York:20260516T110000
DTEND;TZID=America/New_York:20260516T140000
DTSTAMP:20260419T090212
CREATED:20260417T190240Z
LAST-MODIFIED:20260419T122219Z
UID:15328-1778929200-1778940000@amaboston.org
SUMMARY:AMA Boston 5K Walk Around Boston - Members Only
DESCRIPTION:AMA Boston 5K Walk Around Boston – Members Only\n\n\n\n\n\nGet ready to stroll through Boston with fellow AMA members for a fun and casual 5K walk!\n\n\n\n\n\n\n\n\n\nJoin the American Marketing Association Boston for an energizing 5K Walk Around Boston—where networking meets wellness in one of the country’s most historic cities. \nWhether you’re a seasoned marketer\, emerging professional\, or just looking to connect\, this event offers a unique opportunity to build relationships while enjoying a scenic walk through Boston. \nExpect great conversations\, fresh air\, and a vibrant community of professionals coming together to move\, connect\, and grow. Lace up\, bring your energy\, and be part of a dynamic experience that goes beyond the typical networking event. \nWe will start at Kendall Square in front of 1 Broadway and make our way to the Charles River and then do a loop starting east toward the Museum of Science and then walk around the Boston side of the Charles River till the Mass Av. Bridge and then back to the Cambridge side next to MIT. We can end our walk with an optional lunch (separate checks) in Kendall Square. \nPlease note this is a members only event. Volunteers who have not yet technically joined are also welcome.
URL:https://amaboston.org/event/ama-boston-5k-walk-around-boston-members-only/
LOCATION:Kendall Square\, 1 Broadway Cambridge\, MA\, 02142\, United States
CATEGORIES:Community
ATTACH;FMTTYPE=image/png:https://amaboston.org/wp-content/uploads/2026/04/Screenshot-2026-04-19-at-08.19.12.png
END:VEVENT
BEGIN:VEVENT
DTSTART;TZID=America/New_York:20260527T180000
DTEND;TZID=America/New_York:20260527T200000
DTSTAMP:20260419T090212
CREATED:20260409T152851Z
LAST-MODIFIED:20260419T122618Z
UID:15315-1779904800-1779912000@amaboston.org
SUMMARY:AMA Boston: May Marketing Mingle with Mass Professional Networking
DESCRIPTION:AMA Boston: May Marketing Mingle with Mass Professional Networking\n\n\n\n\n\n\n\n\n\n\nGet ready to mix and mingle with fellow marketers and other networkers at the May Marketing Mingle at Aloft on May 27 at 6:00 – 8:00 PM.\n\n\n\n\n\n\nAMA Boston invites you to our May Marketing Mingle at WXYZ Bar at Aloft in the Boston Seaport from 6:00 pm – 8:00 pm on Wednesday May 27th. AMA Boston will be partnering with Mass Professional Networking for an amazing event! \nJoin us for a fun and productive evening of networking and socializing with other marketing professionals and other networkers. Don’t miss this opportunity to connect with like-minded individuals in a relaxed and casual setting. \nCome ready to share ideas\, make new contacts\, and have a great time! We look forward to seeing you there! \nTransportation Options – 5 min walk from Silver Line and Parking on D Street in the Boston Seaport \n—– \nSponsorships \nWant to become a sponsor of this event or a future AMA Boston event? Reach out to sponsorship@amaboston.org! \n—– \n\n\n\n\nPlatinum Sponsor: \nWe extend our sincere gratitude to our Platinum Sponsor\, Brick Marketing\, for their generous sponsorship. Your partnership is truly appreciated and instrumental to our success. \nFor more information\, click here. \n\n\n\n\n\n\n\n\n\nAbout the American Marketing Association (AMA) Boston: \nThe American Marketing Association (AMA) Boston is the networking and educational hub for New England marketers. Our mission is to build a community of marketers who can share experiences\, learn about the latest marketing trends\, and build a powerful professional network. AMA Boston empowers its members with the knowledge and resources they need to be leaders in their careers and organizations. Learn more at https://www.amaboston.org. \n—– \nAny questions? Please reach out to us at theoffice@amaboston.org! \n\n\n\n\n\n\n\n\n\n\n\n\n\nRead less\n\n\n\n\n\n\n\nGood to know\n\n\n\n\n\nHighlights \n\n\n2 hours\nIn person\n\n\n\n\n\n\n\n\nRefund Policy \nRefunds up to 7 days before event\n\n\n\n\n\n\n\n\n\n\n\nLocation\n\n\n\nAloft Boston Seaport District\n\n401-403 D Street \nWXYZ Bar Boston\, MA 02210 \n\n\n\n\n\n\n\nHow do you want to get there?\n\n\nDriving\nPublic transport\nBiking\nWalking\n\n\n\n\nShow map\n\n\n\n\n\n\n\n\nAgenda\n\n\n\n06:00 PM – 08:00 PM \nAgenda\n\n\n\n\n\n\n\n\n\nOrganized by\n\n\n\n\n\n\nAMA Boston \n\nFollowers851\nEvents284\nHosting17 years\n\n\n\n\nContact \nFollowing\n\n\n\n\n\n\nReport this event\n\n\n[/fusion_text][/fusion_builder_column][/fusion_builder_row][/fusion_builder_container]
URL:https://amaboston.org/event/ama-boston-may-marketing-mingle-with-mass-professional-networking/
LOCATION:Seaport District\, Aloft Boston Seaport District 401-403 D Street WXYZ Bar\, Boston\, MA\, 02210\, United States
ATTACH;FMTTYPE=image/png:https://amaboston.org/wp-content/uploads/2026/04/Screenshot-2026-04-19-at-08.24.15.png
END:VEVENT
END:VCALENDAR