BEGIN:VCALENDAR
VERSION:2.0
PRODID:-//AMA Boston - ECPv6.15.20//NONSGML v1.0//EN
CALSCALE:GREGORIAN
METHOD:PUBLISH
X-WR-CALNAME:AMA Boston
X-ORIGINAL-URL:https://amaboston.org
X-WR-CALDESC:Events for AMA Boston
REFRESH-INTERVAL;VALUE=DURATION:PT1H
X-Robots-Tag:noindex
X-PUBLISHED-TTL:PT1H
BEGIN:VTIMEZONE
TZID:UTC
BEGIN:STANDARD
TZOFFSETFROM:+0000
TZOFFSETTO:+0000
TZNAME:UTC
DTSTART:20170101T000000
END:STANDARD
END:VTIMEZONE
BEGIN:VEVENT
DTSTART;TZID=UTC:20200528T180000
DTEND;TZID=UTC:20200528T193000
DTSTAMP:20260422T181122
CREATED:20200509T211316Z
LAST-MODIFIED:20200509T211316Z
UID:10750-1590688800-1590694200@amaboston.org
SUMMARY:Building Your Brand in a Digital Era
DESCRIPTION:In today’s pandemic era\, most of us are digital nomads – working and collaborating remotely. With the shelter in place mandate\, we won’t be going to physical events any time soon. So\, how do you stay visible while working from home? How can you be heard\, be seen if you aren’t delivering a keynote or networking in person? \nBeing visible is critical in today’s hyper-connected world – whether you are looking for a promotion\, considering a career transitions or launching a company. \nIn this session we’ll discuss how you can leverage your expertise to build your brand\, even if you have just have 30 minutes a week to spare.  Some of the areas we’ll cover include: \n\nWhat is thought leadership\nStrategies to build credibility\nBest practices\nTips\, and tricks\nAnd more.\n\n \nBy registering\, you are consenting to AMA Boston email communications and recording of the event.
URL:https://amaboston.org/event/building-your-brand-in-a-digital-era/
LOCATION:MA
END:VEVENT
BEGIN:VEVENT
DTSTART;TZID=UTC:20200514T190000
DTEND;TZID=UTC:20200514T200000
DTSTAMP:20260422T181122
CREATED:20200507T214102Z
LAST-MODIFIED:20200507T214102Z
UID:10745-1589482800-1589486400@amaboston.org
SUMMARY:AMA Boston’s Virtual Marketing Mingle
DESCRIPTION:Our monthly Marketing Mingle has gone virtual! Join us for networking\, conversation\, and laughs. This month we’ll be facilitating a discussion focused on digital branding. What will marketing look like in 2020 and beyond? Where should you focus your efforts\, and what messaging should you be going to market with? We’ll open the discussion up for peer brainstorming and insights from our board of directors. \nTwo days before the Mingle\, we will email you the link to join. \nBy registering\, you are consenting to AMA Boston email communications and recording of the event.
URL:https://amaboston.org/event/ama-bostons-virtual-marketing-mingle/
LOCATION:MA
END:VEVENT
BEGIN:VEVENT
DTSTART;TZID=UTC:20200507T120000
DTEND;TZID=UTC:20200507T130000
DTSTAMP:20260422T181122
CREATED:20200420T005433Z
LAST-MODIFIED:20200420T005433Z
UID:10682-1588852800-1588856400@amaboston.org
SUMMARY:Combat COVID-19: Adapt Your Marketing Approach to Maximize Lead Generation
DESCRIPTION:Combat COVID-19: Adapt Your Marketing Approach to Maximize Lead Generation & Revenue\nDuring a crisis\, adapting effectively is key to maintaining your business. Marketing organizations and CMO’s need to have a contingency plan in place for communicating with customers\, tweaking to their strategy if necessary. Remember\, the message your give to your customers will set the tone for months to come. \nJOIN US for this exclusive webinar\, hosted by the American Marketing Association (AMA) – Boston Chapter and co-hosted by Aveli By WSI a WSI World Digital Marketing Agency. Learn what tactics organizations just like yours are using to keep up with the competition and combat the COVID-19 pandemic.  \nIn this informative\, 1-hour webinar\, we’ll cover: \n\nSimple Recipes for Success: Learn how some businesses are using innovative thinking and pivoting their business to excel.\nBusiness Post-COVID-19: Wondering what the business landscape will look like after the pandemic? Some things won’t return to normal; we’ll tell you what they are and how to prepare.\nWinners & Losers in the Wake of COVID-19: We’ll discuss what type of businesses will thrive now and in the aftermath of the Coronavirus.\nLearn about Tools: You can take advantage of a variety of tools and resources online to help grow your business\, increasing leads and revenue.\nAnd More!\n\nRegister for this FREE webinar today! \nJoin the American Marketing Association – Boston Chapter in this exciting FREE webinar and learn how to go above and beyond in these troubled times.
URL:https://amaboston.org/event/combat-covid-19-adapt-your-marketing-approach-to-maximize-lead-generation/
LOCATION:MA
END:VEVENT
BEGIN:VEVENT
DTSTART;TZID=UTC:20200430T180000
DTEND;TZID=UTC:20200430T193000
DTSTAMP:20260422T181122
CREATED:20200130T204509Z
LAST-MODIFIED:20200130T204509Z
UID:10549-1588269600-1588275000@amaboston.org
SUMMARY:Hear from Hiring Experts: Navigating the New Job Search Reality
DESCRIPTION:Whether you are just starting out or well into your career\, get grounded in what you need to do to establish a job search strategy for this unique and challenging job market. Learn how to: \n\nStructure your LinkedIn profile and your ATS resume to get noticed\nAddress what hiring managers and recruiters are looking for\nPrepare for your virtual interview and handling the tough questions.\n\nThe Boston Chapter of the American Marketing Association has assembled a panel of senior hiring thought leaders and practitioners. They will share their expert advice and predictions for this Boston market. Register today as you won’t want to miss this event! \n  \n 
URL:https://amaboston.org/event/hear-from-the-recruitment-experts-landing-your-dream-job-in-a-hot-job-market/
LOCATION:MA
END:VEVENT
BEGIN:VEVENT
DTSTART;TZID=UTC:20200416T190000
DTEND;TZID=UTC:20200416T200000
DTSTAMP:20260422T181122
CREATED:20200220T193313Z
LAST-MODIFIED:20200220T193313Z
UID:10594-1587063600-1587067200@amaboston.org
SUMMARY:AMA Boston’s Member Only Virtual Marketing Mingle
DESCRIPTION:Join us for AMA Boston’s first Member Only Virtual Marketing Mingle. We’ll be getting together for some fun\, informal networking virtually. \nJoin us for networking\, conversation\, and laughs. Make new friends and connections. Develop new relationships with people who might be able to help you on the job and in your career. \nIn addition to getting to know each other\, we’ll talk about business challenges you’re facing through COVID-19. We’ll open the discussion up for peer brainstorming and insights from our board of directors. \nTwo days before the Mingle\, we will email you the link to join. \nNo admission fee for AMA members. 
URL:https://amaboston.org/event/ama-bostons-marketing-mingle-6/
LOCATION:MA
END:VEVENT
BEGIN:VEVENT
DTSTART;TZID=UTC:20181108T180000
DTEND;TZID=UTC:20181108T200000
DTSTAMP:20260422T181122
CREATED:20180822T172130Z
LAST-MODIFIED:20180822T172130Z
UID:9092-1541700000-1541707200@amaboston.org
SUMMARY:AMA Boston's Monthly Marketing Mingle
DESCRIPTION:Join us for AMA Boston’s Marketing Mingle\, the second Thursday of each month from 6-8 PM. We’ll be getting together for a fun\, informal networking event at the Back Bay Social Club in Boston\, and we want YOU to join us. \nThe Mingle is a low-maintenance\, high-energy event. We’re talking about mixing business with pleasure. Join us for networking\, conversation and laughs. Be there to eat\, drink and socialize. Make new friends and connections. Develop new relationships with people who might be able to help you on the job and in your career. \nThere’s no agenda. No pressure. No admission fee. And did we mention\, free appetizers!
URL:https://amaboston.org/event/ama-bostons-monthly-marketing-mingle-4-2018-11-08/
LOCATION:MA
ATTACH;FMTTYPE=:
END:VEVENT
BEGIN:VEVENT
DTSTART;TZID=UTC:20181011T180000
DTEND;TZID=UTC:20181011T200000
DTSTAMP:20260422T181122
CREATED:20180822T172130Z
LAST-MODIFIED:20180822T172130Z
UID:9091-1539280800-1539288000@amaboston.org
SUMMARY:AMA Boston's Monthly Marketing Mingle
DESCRIPTION:Join us for AMA Boston’s Marketing Mingle\, the second Thursday of each month from 6-8 PM. We’ll be getting together for a fun\, informal networking event at the Back Bay Social Club in Boston\, and we want YOU to join us. \nThe Mingle is a low-maintenance\, high-energy event. We’re talking about mixing business with pleasure. Join us for networking\, conversation and laughs. Be there to eat\, drink and socialize. Make new friends and connections. Develop new relationships with people who might be able to help you on the job and in your career. \nThere’s no agenda. No pressure. No admission fee. And did we mention\, free appetizers!
URL:https://amaboston.org/event/ama-bostons-monthly-marketing-mingle-4-2018-10-11/
LOCATION:MA
ATTACH;FMTTYPE=:
END:VEVENT
BEGIN:VEVENT
DTSTART;TZID=UTC:20180913T180000
DTEND;TZID=UTC:20180913T200000
DTSTAMP:20260422T181122
CREATED:20180822T172130Z
LAST-MODIFIED:20180822T172130Z
UID:9089-1536861600-1536868800@amaboston.org
SUMMARY:AMA Boston's Monthly Marketing Mingle
DESCRIPTION:Join us for AMA Boston’s Marketing Mingle\, the second Thursday of each month from 6-8 PM. We’ll be getting together for a fun\, informal networking event at the Back Bay Social Club in Boston\, and we want YOU to join us. \nThe Mingle is a low-maintenance\, high-energy event. We’re talking about mixing business with pleasure. Join us for networking\, conversation and laughs. Be there to eat\, drink and socialize. Make new friends and connections. Develop new relationships with people who might be able to help you on the job and in your career. \nThere’s no agenda. No pressure. No admission fee. And did we mention\, free appetizers!
URL:https://amaboston.org/event/ama-bostons-monthly-marketing-mingle-4/
LOCATION:MA
ATTACH;FMTTYPE=:
END:VEVENT
END:VCALENDAR