BEGIN:VCALENDAR
VERSION:2.0
PRODID:-//AMA Boston - ECPv6.15.20//NONSGML v1.0//EN
CALSCALE:GREGORIAN
METHOD:PUBLISH
X-WR-CALNAME:AMA Boston
X-ORIGINAL-URL:https://amaboston.org
X-WR-CALDESC:Events for AMA Boston
REFRESH-INTERVAL;VALUE=DURATION:PT1H
X-Robots-Tag:noindex
X-PUBLISHED-TTL:PT1H
BEGIN:VTIMEZONE
TZID:America/New_York
BEGIN:DAYLIGHT
TZOFFSETFROM:-0500
TZOFFSETTO:-0400
TZNAME:EDT
DTSTART:20210314T070000
END:DAYLIGHT
BEGIN:STANDARD
TZOFFSETFROM:-0400
TZOFFSETTO:-0500
TZNAME:EST
DTSTART:20211107T060000
END:STANDARD
BEGIN:DAYLIGHT
TZOFFSETFROM:-0500
TZOFFSETTO:-0400
TZNAME:EDT
DTSTART:20220313T070000
END:DAYLIGHT
BEGIN:STANDARD
TZOFFSETFROM:-0400
TZOFFSETTO:-0500
TZNAME:EST
DTSTART:20221106T060000
END:STANDARD
BEGIN:DAYLIGHT
TZOFFSETFROM:-0500
TZOFFSETTO:-0400
TZNAME:EDT
DTSTART:20230312T070000
END:DAYLIGHT
BEGIN:STANDARD
TZOFFSETFROM:-0400
TZOFFSETTO:-0500
TZNAME:EST
DTSTART:20231105T060000
END:STANDARD
END:VTIMEZONE
BEGIN:VEVENT
DTSTART;TZID=America/New_York:20220203T190000
DTEND;TZID=America/New_York:20220203T200000
DTSTAMP:20260424T063417
CREATED:20220111T135145Z
LAST-MODIFIED:20220120T231122Z
UID:12308-1643914800-1643918400@amaboston.org
SUMMARY:Influencer Marketing: Why It's Critical to Building Brand Credibility
DESCRIPTION:Register now! \n\n\n\nInfluencer recommendations help boost brands\, build credibility\, increase conversion and impact your bottom-line.\n\n\n\n\n\nAbout this event\n\n\nMore than 67% of U.S marketers will use some form of influencer marketing this year. That number is expected to increase to 72.5% in 2022. Influencer marketing is about collaboration between an influencer and a brand – where the brand engages the influencer to promote their products or services to the influencer’s audience. The intention is to grow brand awareness. \nWhy? \nInfluencer recommendations help boost brands\, build credibility\, increase conversion and impact your bottom-line. It’s a must have in your marketing tool-kit – whether you are a B2C or a B2B company. \nIn this session you’ll learn about: \n• opportunities and challenges of influencer marketing• when to engage with influencers \n• how to find the right influencers that align with your brand \n• best practices \n• and more!
URL:https://amaboston.org/event/influencer-marketing-why-its-critical-to-building-brand-credibility/
LOCATION:Online
CATEGORIES:Online
ATTACH;FMTTYPE=image/jpeg:https://amaboston.org/wp-content/uploads/2022/01/Copy-of-Copy-of-Influencer-Marketing-V1-1.jpg
END:VEVENT
BEGIN:VEVENT
DTSTART;TZID=America/New_York:20220217T190000
DTEND;TZID=America/New_York:20220217T203000
DTSTAMP:20260424T063417
CREATED:20220118T140347Z
LAST-MODIFIED:20220211T140759Z
UID:12316-1645124400-1645129800@amaboston.org
SUMMARY:Super Bowl LVI Ads Event
DESCRIPTION:Register now!\n \nJoin us on February 17th for a night of fun at our Super Bowl Ads event!\n\n\n\n\n\nAbout this event\n\n\nJoin us on February 17th for a night of fun at our Super Bowl Ads event! Hear from our panel of experts as we: \n• Take a look back at some of the greatest Super Bowl ads of all time \n• Review some of the top ads from this year’s Super Bowl \n• Put our marketing hats on and break down which ads performed well and which one’s may have missed the mark \n• Review trends in advertising and digital marketing
URL:https://amaboston.org/event/super-bowl-lvi-ads-event/
LOCATION:Online
CATEGORIES:Online
ATTACH;FMTTYPE=image/jpeg:https://amaboston.org/wp-content/uploads/2022/01/Updated-Super-Bowl-Ads-event-graphic.jpg
END:VEVENT
BEGIN:VEVENT
DTSTART;TZID=America/New_York:20220222T190000
DTEND;TZID=America/New_York:20220222T200000
DTSTAMP:20260424T063417
CREATED:20220215T200740Z
LAST-MODIFIED:20220215T211639Z
UID:12346-1645556400-1645560000@amaboston.org
SUMMARY:AMA Boston Twitter Chat
DESCRIPTION:#AMABCHAT is a monthly discussion on our Twitter account (www.twitter.com/amaboston) with a marketing leader\, available by following along using the hashtag either live or after. The community can answer questions right along side our featured guest\, just remember to include #AMABCHAT. \n  \nThis month features Michele Martin a Senior Manager of Marketing at L.L Bean. \n  \nAfter this chat concludes\, we will break into a Twitter space to continue the conversation and answer any questions that may have come up. \n  \nYou can set a reminder or to access on your Twitter account by using this link https://twitter.com/i/spaces/1OdKrBYpqPeKX. \nIf you have a Twitter account\, feel free to set a reminder to be notified. If you don’t\, feel free to still listen in real time.
URL:https://amaboston.org/event/ama-boston-twitter-chat/
LOCATION:Online
ATTACH;FMTTYPE=image/jpeg:https://amaboston.org/wp-content/uploads/2022/02/ama-boston-march-twitter-chat.jpg
END:VEVENT
END:VCALENDAR