BEGIN:VCALENDAR
VERSION:2.0
PRODID:-//AMA Boston - ECPv6.15.20//NONSGML v1.0//EN
CALSCALE:GREGORIAN
METHOD:PUBLISH
X-ORIGINAL-URL:https://amaboston.org
X-WR-CALDESC:Events for AMA Boston
REFRESH-INTERVAL;VALUE=DURATION:PT1H
X-Robots-Tag:noindex
X-PUBLISHED-TTL:PT1H
BEGIN:VTIMEZONE
TZID:America/New_York
BEGIN:DAYLIGHT
TZOFFSETFROM:-0500
TZOFFSETTO:-0400
TZNAME:EDT
DTSTART:20210314T070000
END:DAYLIGHT
BEGIN:STANDARD
TZOFFSETFROM:-0400
TZOFFSETTO:-0500
TZNAME:EST
DTSTART:20211107T060000
END:STANDARD
BEGIN:DAYLIGHT
TZOFFSETFROM:-0500
TZOFFSETTO:-0400
TZNAME:EDT
DTSTART:20220313T070000
END:DAYLIGHT
BEGIN:STANDARD
TZOFFSETFROM:-0400
TZOFFSETTO:-0500
TZNAME:EST
DTSTART:20221106T060000
END:STANDARD
BEGIN:DAYLIGHT
TZOFFSETFROM:-0500
TZOFFSETTO:-0400
TZNAME:EDT
DTSTART:20230312T070000
END:DAYLIGHT
BEGIN:STANDARD
TZOFFSETFROM:-0400
TZOFFSETTO:-0500
TZNAME:EST
DTSTART:20231105T060000
END:STANDARD
END:VTIMEZONE
BEGIN:VEVENT
DTSTART;TZID=America/New_York:20221004T190000
DTEND;TZID=America/New_York:20221004T200000
DTSTAMP:20260423T181018
CREATED:20221004T130823Z
LAST-MODIFIED:20221004T130823Z
UID:12745-1664910000-1664913600@amaboston.org
SUMMARY:Twitter Space with Country star Alexandra Kay
DESCRIPTION:Join us on Tuesday night at 7 pm EDT / 6 pm CDT as we chat with Country star Alexandra Kay\, who’s originally from Illinois\, and now based in Nashville\, TN. She will be chatting about the many connections marketing has with the music industry and much more. She will be performing at the Fryeburg Fair on Friday\, October 7th. \nThe talk will be available live and recorded on demand via Twitter Click Here.
URL:https://amaboston.org/event/twitter-space-with-country-star-alexandra-kay/
ATTACH;FMTTYPE=image/jpeg:https://amaboston.org/wp-content/uploads/2022/10/Twitter-Space-Country-Star-Alexandra-Kay-Oct-4.jpg
END:VEVENT
BEGIN:VEVENT
DTSTART;TZID=America/New_York:20221019T170000
DTEND;TZID=America/New_York:20221019T183000
DTSTAMP:20260423T181018
CREATED:20221012T022715Z
LAST-MODIFIED:20221018T024411Z
UID:12763-1666198800-1666204200@amaboston.org
SUMMARY:Meet the Head of Industry at Google
DESCRIPTION:Meet Don Batsford\, Jr .from Google as he talks about the last trends in the marketing industry. \nWith over two decades of cutting-edge marketing & advertising experience\, Don is a driving player in the transformation of conversations between brands and consumers. This is critical as these connections are increasingly powered by machine learning\, experienced cross device\, and empathic to the individual user. \nCurrently Don is Head of Industry at Google\, leading a team of Digital Marketing Experts\, Data Analysts\, & Media Specialists that partner with the CEOs and CMOs of Google’s largest and most sophisticated advertisers to grow their businesses. \nRegister Now!
URL:https://amaboston.org/event/meet-the-head-of-industry-at-google/
LOCATION:Suffolk University – Sargent Hall
ATTACH;FMTTYPE=image/jpeg:https://amaboston.org/wp-content/uploads/2022/10/Suffolk-ama-event.jpeg
END:VEVENT
BEGIN:VEVENT
DTSTART;TZID=America/New_York:20221025T200000
DTEND;TZID=America/New_York:20221025T203000
DTSTAMP:20260423T181018
CREATED:20221020T225028Z
LAST-MODIFIED:20221020T225028Z
UID:12788-1666728000-1666729800@amaboston.org
SUMMARY:Twitter Chat with Meg Coffey - Managing Director Coffey and Tea
DESCRIPTION:Join our Twitter Chat\nwith Meg Coffey – Managing Director Coffey and Tea\nMeg will be talking about Global Marketing from an Australian perspective and the culture of business.\nTwitter via Twitter handle @amaboston  or by searching #AMABCHAT live or on demand. \nTwitter Spaces – Audio immediately following the chat.\n(Twitter account not required to listen – Desktop or mobile)\, if you want to speak\, Twitter is required from a mobile device.\n\nMeg Coffey Bio\nDigital marketing strategist Meg Coffey is an award-winning entrepreneur and regular on Australia’s business speaking circuit. \n\nTexan by birth and Australian by choice\, she is managing director of the tourism-focussed social and digital marketing agency Coffey & Tea\, developing campaigns and delivering training that enables Australian businesses to compete on the global stage; the founder of State of Social\, Australia’s favorite social media conference; and #SMPerth\, the free knowledge-sharing network and event series. \n\nMeg is a regular contributor to media\, having recently appeared on Sunrise\, The Today Show\, ABC News\, 6PR\, and the Daily Telegraph. In 2017 Meg was named one of Australia’s Top 50 Small Business Leaders\, and in 2021 was nominated as a finalist for Campaign Brief’s Ad Person of the Year.\n\nJOIN TWITTER SPACE
URL:https://amaboston.org/event/twitter-chat-with-meg-coffey-managing-director-coffey-and-tea/
ATTACH;FMTTYPE=image/jpeg:https://amaboston.org/wp-content/uploads/2022/10/Twittter-Chat-Meg-Coffey-Oct-2022.jpg
END:VEVENT
BEGIN:VEVENT
DTSTART;TZID=America/New_York:20221026T173000
DTEND;TZID=America/New_York:20221026T200000
DTSTAMP:20260423T181018
CREATED:20221020T181031Z
LAST-MODIFIED:20221020T191247Z
UID:12774-1666805400-1666814400@amaboston.org
SUMMARY:Marketing Mingle
DESCRIPTION:We’ll be getting together for a fun\, informal networking event at Trillium Brewing\, and YOU are invited to join us. \nThis is a low-maintenance\, high-energy event. We’re talking about mixing business with pleasure. Join us for networking\, conversation and laughs. Develop new relationships with people who might be able to help you on the job and in your career.There’s no agenda. No pressure. No admission fee. We sure are looking forward to it and hope you are\, too. \nWednesday\, October 26\, 5:30-8 PM at Trillium Brewing – Fort Point. Mark your calendar and watch here for registration details.
URL:https://amaboston.org/event/marketing-mingle/
LOCATION:Trillium Brewing – Fort Point\, 50 Thomson Pl.\, Boston\, MA\, 02210\, United States
ATTACH;FMTTYPE=image/jpeg:https://amaboston.org/wp-content/uploads/2022/10/MktgMingle-Networking-Twitter.jpg
END:VEVENT
END:VCALENDAR