BEGIN:VCALENDAR
VERSION:2.0
PRODID:-//AMA Boston - ECPv6.15.20//NONSGML v1.0//EN
CALSCALE:GREGORIAN
METHOD:PUBLISH
X-WR-CALNAME:AMA Boston
X-ORIGINAL-URL:https://amaboston.org
X-WR-CALDESC:Events for AMA Boston
REFRESH-INTERVAL;VALUE=DURATION:PT1H
X-Robots-Tag:noindex
X-PUBLISHED-TTL:PT1H
BEGIN:VTIMEZONE
TZID:America/New_York
BEGIN:DAYLIGHT
TZOFFSETFROM:-0500
TZOFFSETTO:-0400
TZNAME:EDT
DTSTART:20210314T070000
END:DAYLIGHT
BEGIN:STANDARD
TZOFFSETFROM:-0400
TZOFFSETTO:-0500
TZNAME:EST
DTSTART:20211107T060000
END:STANDARD
BEGIN:DAYLIGHT
TZOFFSETFROM:-0500
TZOFFSETTO:-0400
TZNAME:EDT
DTSTART:20220313T070000
END:DAYLIGHT
BEGIN:STANDARD
TZOFFSETFROM:-0400
TZOFFSETTO:-0500
TZNAME:EST
DTSTART:20221106T060000
END:STANDARD
BEGIN:DAYLIGHT
TZOFFSETFROM:-0500
TZOFFSETTO:-0400
TZNAME:EDT
DTSTART:20230312T070000
END:DAYLIGHT
BEGIN:STANDARD
TZOFFSETFROM:-0400
TZOFFSETTO:-0500
TZNAME:EST
DTSTART:20231105T060000
END:STANDARD
END:VTIMEZONE
BEGIN:VEVENT
DTSTART;TZID=America/New_York:20221129T090000
DTEND;TZID=America/New_York:20221129T100000
DTSTAMP:20260423T160403
CREATED:20221122T010904Z
LAST-MODIFIED:20221122T010904Z
UID:12832-1669712400-1669716000@amaboston.org
SUMMARY:Twitter Chat With Ronald Coyle
DESCRIPTION:We are pleased to host our November Twitter Chat featuring Ronald Coyle on Tuesday the 29th at 9 am EDT/7 am MDT. We will be discussing how marketers can use more data in 2023. If you aren’t familiar with a Twitter chat\, we will pose a question to Ronald and he will respond. We want you to join us too\, and respond to questions that you have a point of view on\, are knowledgeable about\, or have experience with. Remember to include the hashtag #AMABCHAT in all tweets including replies.\n\nSome of Ronald‘s highlights:\n\n– Former Nielsen Social Media Data Analyst\n– US Army Veteran\n– Adjunct Professor at Trident University\n– And the recipient of a PHD in Business and Marketing.\n\nHosted by Brian Hurst – CO-VP Social Media AMA Boston
URL:https://amaboston.org/event/twitter-chat-with-ronald-coyle/
LOCATION:Online
ATTACH;FMTTYPE=image/jpeg:https://amaboston.org/wp-content/uploads/2022/11/1129-TwitterChat-MASTER-Twitter-Promos.jpg
END:VEVENT
BEGIN:VEVENT
DTSTART;TZID=America/New_York:20221130T180000
DTEND;TZID=America/New_York:20221130T190000
DTSTAMP:20260423T160403
CREATED:20221111T211325Z
LAST-MODIFIED:20221111T214232Z
UID:12817-1669831200-1669834800@amaboston.org
SUMMARY:Virtual Marketing Mingle: November 2022
DESCRIPTION:Meet other Boston marketers virtually for an evening of networking. \nWe’ll kick the night off with a discussion and Q&A session on the topic of “Mentorships: Is Your Company Investing In Personal Development?” with our guest speaker Craig Lund\, Secretary and VP of Leadership Excellence from the AMA Toronto Chapter. We’ll then mingle in breakout groups to make new friends and network. \nAbout the speaker: \nCraig Lund is a marketing and business development professional specialized in selling to the C-suite marketer. Having launched three businesses in the past 17 years in the Canadian & US Market for both Canadian based and Global companies in media\, consulting and marketing resource management\, he has developed an affinity and passion for connecting the dots for the marketing community.  \nAs President of Marketing Talent Inc. Craig provides leadership for the Canadian and the US operations\, where he helps Fortune 500 companies manage their marketing resources utilizing an innovative approach of leveraging interim and permanent staffing solutions.  \nAn AMA Past President\, he is the current Secretary and VP Leadership Excellence for the Toronto Chapter\, where he oversees the development of mentorship & coaching programs that give AMA members C Leader access and to help foster a greater sense of community for the industry.  \nHe has been a contributing writer on career development for industry publications such as Marketing Magazine & Strategy Magazine\, and as a writer for Metro News as a business book columnist. In his free time Craig is a water polo player\, cyclist\, and fitness enthusiast – which allows him to enjoy cooking and entertaining friends and family… along with his other obsession\, his Rhodesian Ridgeback Bianca.
URL:https://amaboston.org/event/virtual-marketing-mingle-november-2022/
LOCATION:Online
ATTACH;FMTTYPE=image/jpeg:https://amaboston.org/wp-content/uploads/2022/11/Marketing-Mingle-November-2022-1.jpg
END:VEVENT
END:VCALENDAR