BEGIN:VCALENDAR
VERSION:2.0
PRODID:-//AMA Boston - ECPv6.15.20//NONSGML v1.0//EN
CALSCALE:GREGORIAN
METHOD:PUBLISH
X-WR-CALNAME:AMA Boston
X-ORIGINAL-URL:https://amaboston.org
X-WR-CALDESC:Events for AMA Boston
REFRESH-INTERVAL;VALUE=DURATION:PT1H
X-Robots-Tag:noindex
X-PUBLISHED-TTL:PT1H
BEGIN:VTIMEZONE
TZID:America/New_York
BEGIN:DAYLIGHT
TZOFFSETFROM:-0500
TZOFFSETTO:-0400
TZNAME:EDT
DTSTART:20210314T070000
END:DAYLIGHT
BEGIN:STANDARD
TZOFFSETFROM:-0400
TZOFFSETTO:-0500
TZNAME:EST
DTSTART:20211107T060000
END:STANDARD
BEGIN:DAYLIGHT
TZOFFSETFROM:-0500
TZOFFSETTO:-0400
TZNAME:EDT
DTSTART:20220313T070000
END:DAYLIGHT
BEGIN:STANDARD
TZOFFSETFROM:-0400
TZOFFSETTO:-0500
TZNAME:EST
DTSTART:20221106T060000
END:STANDARD
BEGIN:DAYLIGHT
TZOFFSETFROM:-0500
TZOFFSETTO:-0400
TZNAME:EDT
DTSTART:20230312T070000
END:DAYLIGHT
BEGIN:STANDARD
TZOFFSETFROM:-0400
TZOFFSETTO:-0500
TZNAME:EST
DTSTART:20231105T060000
END:STANDARD
END:VTIMEZONE
BEGIN:VEVENT
DTSTART;TZID=America/New_York:20221220T180000
DTEND;TZID=America/New_York:20221220T200000
DTSTAMP:20260423T140802
CREATED:20221207T003823Z
LAST-MODIFIED:20221209T014844Z
UID:12851-1671559200-1671566400@amaboston.org
SUMMARY:Holiday Marketing Mingle
DESCRIPTION:Grab a festive drink and join AMA Boston for a fun and festive night of holiday networking! \nWe’ll be getting together for a fun\, informal networking event at Night Shift Brewing – Everett location\, and YOU are invited to join us. \nThis is a low-maintenance\, high-energy event. We’re talking about mixing business with pleasure. Join us for networking\, conversation\, and laughs. Develop new relationships with people who might be able to help you on the job and in your career. There’s no agenda. No pressure. No admission fee. We sure are looking forward to it and hope you are\, too.
URL:https://amaboston.org/event/holiday-marketing-mingle/
LOCATION:Night Shift Brewing – Everett\, 87 Santilli Highway\, Everett\, MA\, 02149\, United States
ATTACH;FMTTYPE=image/jpeg:https://amaboston.org/wp-content/uploads/2022/12/Holiday-Marketing-Mingle-Decemeber-2022.jpg
END:VEVENT
END:VCALENDAR