BEGIN:VCALENDAR
VERSION:2.0
PRODID:-//AMA Boston - ECPv6.15.20//NONSGML v1.0//EN
CALSCALE:GREGORIAN
METHOD:PUBLISH
X-WR-CALNAME:AMA Boston
X-ORIGINAL-URL:https://amaboston.org
X-WR-CALDESC:Events for AMA Boston
REFRESH-INTERVAL;VALUE=DURATION:PT1H
X-Robots-Tag:noindex
X-PUBLISHED-TTL:PT1H
BEGIN:VTIMEZONE
TZID:America/New_York
BEGIN:DAYLIGHT
TZOFFSETFROM:-0500
TZOFFSETTO:-0400
TZNAME:EDT
DTSTART:20220313T070000
END:DAYLIGHT
BEGIN:STANDARD
TZOFFSETFROM:-0400
TZOFFSETTO:-0500
TZNAME:EST
DTSTART:20221106T060000
END:STANDARD
BEGIN:DAYLIGHT
TZOFFSETFROM:-0500
TZOFFSETTO:-0400
TZNAME:EDT
DTSTART:20230312T070000
END:DAYLIGHT
BEGIN:STANDARD
TZOFFSETFROM:-0400
TZOFFSETTO:-0500
TZNAME:EST
DTSTART:20231105T060000
END:STANDARD
BEGIN:DAYLIGHT
TZOFFSETFROM:-0500
TZOFFSETTO:-0400
TZNAME:EDT
DTSTART:20240310T070000
END:DAYLIGHT
BEGIN:STANDARD
TZOFFSETFROM:-0400
TZOFFSETTO:-0500
TZNAME:EST
DTSTART:20241103T060000
END:STANDARD
END:VTIMEZONE
BEGIN:VEVENT
DTSTART;TZID=America/New_York:20230328T090000
DTEND;TZID=America/New_York:20230328T103000
DTSTAMP:20260423T075519
CREATED:20230316T055416Z
LAST-MODIFIED:20230328T043245Z
UID:13050-1679994000-1679999400@amaboston.org
SUMMARY:Account Based Marketing 101
DESCRIPTION:Account Based Marketing 101\nDo you ever feel like your marketing approach is like a fire hose? You keep pumping out ads\, creating content\, and building promotional campaigns that spray all over the place without hitting their mark. How would you like to try something different? Account Based Marketing (ABM) is more than just a methodology. It is a practice – a practice that will allow marketers to work with sales to direct that messaging with great precision. \nABM is a strategic approach that organizations are embracing across New England and the globe. According to Hubspot\, 67% of B2B brands are utilizing some form of account-based marketing today. Additionally\, they state that “one in five accounts targeted through ABM becomes a qualified sales opportunity.” Isn’t now the best time to adopt a better approach? \nLearn how you can implement an ABM strategy to target and engage individual prospects within either new or existing accounts. Register today for our ABM 101 Prep Course to discover how to personalize engagement with stakeholders\, thereby closing deals on accounts that offer maximum bang for marketing department bucks. \nThis training is exclusive AMA member-only content. If you are interested in this event but aren’t a member yet\, there’s still time to join to get access to this webinar for AMA members. \nWe look forward to connecting with you at this premium event. \nBecome A Member Today!Trevor StasikProgram Manager (ASU) & Director of Sponsorship (AMA)Trevor is a virtual volunteer with the AMA Boston chapter\, working remotely from sunny Arizona. As a Sponsorship Director under VP John Cass\, Trevor has been helping to organize and drive the ABM education project. While researching New England companies\, Trevor has been writing content and customized communications to better target sponsor messaging. During the day\, Trevor is a Program Manager for Arizona State University’s Enterprise Brand Strategy and Management team. He is also currently attending the University of Wisconsin\, Whitewater and expects to graduate with an MBA in Marketing in December 2023. Also PMI Member\, 8+ Years Project Management experience\, PMP & CSM Certified. In his free time\, Trevor enjoys hanging out with his wife\, drinking coffee and organizing his action figure toy collection.
URL:https://amaboston.org/event/account-based-marketing-101/
LOCATION:Online
ATTACH;FMTTYPE=image/jpeg:https://amaboston.org/wp-content/uploads/2023/03/PROGRAMMING-EVENTBRITE-TEMPLATE-Educational-Events-3.jpg
END:VEVENT
END:VCALENDAR