BEGIN:VCALENDAR
VERSION:2.0
PRODID:-//AMA Boston - ECPv6.15.20//NONSGML v1.0//EN
CALSCALE:GREGORIAN
METHOD:PUBLISH
X-ORIGINAL-URL:https://amaboston.org
X-WR-CALDESC:Events for AMA Boston
REFRESH-INTERVAL;VALUE=DURATION:PT1H
X-Robots-Tag:noindex
X-PUBLISHED-TTL:PT1H
BEGIN:VTIMEZONE
TZID:America/New_York
BEGIN:DAYLIGHT
TZOFFSETFROM:-0500
TZOFFSETTO:-0400
TZNAME:EDT
DTSTART:20220313T070000
END:DAYLIGHT
BEGIN:STANDARD
TZOFFSETFROM:-0400
TZOFFSETTO:-0500
TZNAME:EST
DTSTART:20221106T060000
END:STANDARD
BEGIN:DAYLIGHT
TZOFFSETFROM:-0500
TZOFFSETTO:-0400
TZNAME:EDT
DTSTART:20230312T070000
END:DAYLIGHT
BEGIN:STANDARD
TZOFFSETFROM:-0400
TZOFFSETTO:-0500
TZNAME:EST
DTSTART:20231105T060000
END:STANDARD
BEGIN:DAYLIGHT
TZOFFSETFROM:-0500
TZOFFSETTO:-0400
TZNAME:EDT
DTSTART:20240310T070000
END:DAYLIGHT
BEGIN:STANDARD
TZOFFSETFROM:-0400
TZOFFSETTO:-0500
TZNAME:EST
DTSTART:20241103T060000
END:STANDARD
END:VTIMEZONE
BEGIN:VEVENT
DTSTART;TZID=America/New_York:20230613T180000
DTEND;TZID=America/New_York:20230613T200000
DTSTAMP:20260423T020342
CREATED:20230521T204303Z
LAST-MODIFIED:20230521T204303Z
UID:13238-1686679200-1686686400@amaboston.org
SUMMARY:Marketing Mingle: June 2023
DESCRIPTION:We’ll be getting together for a fun networking event\, and YOU are invited to join us. \nThis is a low-maintenance\, high-energy event. We’re talking about mixing business with pleasure. Join us for networking\, conversation\, and laughs. Develop new relationships with people who might be able to help you on the job and in your career. There’s no agenda. No pressure. We sure are looking forward to it and hope you are\, too.
URL:https://amaboston.org/event/marketing-mingle-june-2023/
LOCATION:Aloft Boston Seaport\, 401-403 D Street\, Boston\, MA\, 02210\, United States
ATTACH;FMTTYPE=image/jpeg:https://amaboston.org/wp-content/uploads/2023/05/Marketing-Mingle-June-2023.jpg
END:VEVENT
BEGIN:VEVENT
DTSTART;TZID=America/New_York:20230628T120000
DTEND;TZID=America/New_York:20230628T130000
DTSTAMP:20260423T020342
CREATED:20230619T155956Z
LAST-MODIFIED:20230619T155956Z
UID:13274-1687953600-1687957200@amaboston.org
SUMMARY:Twitter Chat With Emilee Cocuzzo
DESCRIPTION:Join us on Twitter for this informative Q&A\, Twitter account is not required to view\, required to participate. If you have not joined us before\, our monthly Twitter chat consists of sixty minutes of ongoing insight from a thought leader on various marketing focuses. Immediately following he will join us on Twitter Spaces\, an audio format. Twitter account not required to listen\, live or on-demand on desktop or mobile\, account required to participate on mobile\, to access this click on our AMA Boston bio at the time of the space or use the link below.\n\n\nEvent Info:\nWhen: June 28th\, Wednesday – 12pm EDT\nWho: Virtual Meet and Greet with Emilee Cocuzzo – Incoming President-Elect\nWhere: 1st Segment\, Twitter via hashtag(#AMABCHAT) or via @AMABoston\n2nd Segment Twitter Spaces via https://twitter.com/i/spaces/1lDxLnyWdMPGm\n\n\nBio:\nEmiliee Cocuzo\, is a marketing professional and faculty member of Clark University where she attended undergrad. She is our current Vice President of Collegiate at the AMA Boston chapter. She will be assuming the role of President-Elect this summer. Additionally\, she has worked in the marketing space for several years including in the IT Services space. Her passions include Taylor Swift for music and trips to Massachusetts islands.\n\nPlease reach out to Brian Hurst bhurst09@gmail.com if you have any questions.
URL:https://amaboston.org/event/twitter-chat-with-emilee-cocuzzo/
LOCATION:Online
ATTACH;FMTTYPE=image/jpeg:https://amaboston.org/wp-content/uploads/2023/06/Twitter-Chat-Emilee.jpg
END:VEVENT
END:VCALENDAR