BEGIN:VCALENDAR
VERSION:2.0
PRODID:-//AMA Boston - ECPv6.15.20//NONSGML v1.0//EN
CALSCALE:GREGORIAN
METHOD:PUBLISH
X-ORIGINAL-URL:https://amaboston.org
X-WR-CALDESC:Events for AMA Boston
REFRESH-INTERVAL;VALUE=DURATION:PT1H
X-Robots-Tag:noindex
X-PUBLISHED-TTL:PT1H
BEGIN:VTIMEZONE
TZID:America/New_York
BEGIN:DAYLIGHT
TZOFFSETFROM:-0500
TZOFFSETTO:-0400
TZNAME:EDT
DTSTART:20220313T070000
END:DAYLIGHT
BEGIN:STANDARD
TZOFFSETFROM:-0400
TZOFFSETTO:-0500
TZNAME:EST
DTSTART:20221106T060000
END:STANDARD
BEGIN:DAYLIGHT
TZOFFSETFROM:-0500
TZOFFSETTO:-0400
TZNAME:EDT
DTSTART:20230312T070000
END:DAYLIGHT
BEGIN:STANDARD
TZOFFSETFROM:-0400
TZOFFSETTO:-0500
TZNAME:EST
DTSTART:20231105T060000
END:STANDARD
BEGIN:DAYLIGHT
TZOFFSETFROM:-0500
TZOFFSETTO:-0400
TZNAME:EDT
DTSTART:20240310T070000
END:DAYLIGHT
BEGIN:STANDARD
TZOFFSETFROM:-0400
TZOFFSETTO:-0500
TZNAME:EST
DTSTART:20241103T060000
END:STANDARD
END:VTIMEZONE
BEGIN:VEVENT
DTSTART;TZID=America/New_York:20230822T180000
DTEND;TZID=America/New_York:20230822T200000
DTSTAMP:20260422T215457
CREATED:20230726T220845Z
LAST-MODIFIED:20230726T220845Z
UID:13302-1692727200-1692734400@amaboston.org
SUMMARY:Marketing Mingle With Mass Professional Network: August 2023
DESCRIPTION:We’ll be getting together for a fun networking event\, and YOU are invited to join us. \nThis is a low-maintenance\, high-energy event. We’re talking about mixing business with pleasure. Join us for networking\, conversation\, and laughs. Develop new relationships with people who might be able to help you on the job and in your career. There’s no agenda. No pressure. We sure are looking forward to it and hope you are\, too. \nAMA Boston would like to invite you to our August Boston Business Networking & Social Event at The WXYZ Bar in Boston\, MA from 6:00pm – 8:00pm on Tuesday\, August 22nd\, 2023. All professionals are welcome whether you are simply working on building your network\, looking for business leads\, looking for a new job or just like to meet people. \nAMA Boston is also partnering w/ Mass Professional Network \nThe mission of the Mass Professional Networking group is to build a great referral network for group members to promote their products and services and entrepreneurship and small business which will drive our future economic success. \nOur group will promote events for professionals who want to expand their network and create new business opportunities! The events will vary in size and take place in different Venues around Eastern Massachusetts and draw a diverse mix of professionals from all industries and career levels while providing a relaxed atmosphere to market themselves or/their company.
URL:https://amaboston.org/event/marketing-mingle-with-mass-professional-network-august-2023/
LOCATION:Aloft Boston Seaport\, 401-403 D Street\, Boston\, MA\, 02210\, United States
ATTACH;FMTTYPE=image/jpeg:https://amaboston.org/wp-content/uploads/2023/07/Marketing-Mingle-8-22-23.jpg
END:VEVENT
END:VCALENDAR