BEGIN:VCALENDAR
VERSION:2.0
PRODID:-//AMA Boston - ECPv6.15.20//NONSGML v1.0//EN
CALSCALE:GREGORIAN
METHOD:PUBLISH
X-ORIGINAL-URL:https://amaboston.org
X-WR-CALDESC:Events for AMA Boston
REFRESH-INTERVAL;VALUE=DURATION:PT1H
X-Robots-Tag:noindex
X-PUBLISHED-TTL:PT1H
BEGIN:VTIMEZONE
TZID:America/New_York
BEGIN:DAYLIGHT
TZOFFSETFROM:-0500
TZOFFSETTO:-0400
TZNAME:EDT
DTSTART:20230312T070000
END:DAYLIGHT
BEGIN:STANDARD
TZOFFSETFROM:-0400
TZOFFSETTO:-0500
TZNAME:EST
DTSTART:20231105T060000
END:STANDARD
BEGIN:DAYLIGHT
TZOFFSETFROM:-0500
TZOFFSETTO:-0400
TZNAME:EDT
DTSTART:20240310T070000
END:DAYLIGHT
BEGIN:STANDARD
TZOFFSETFROM:-0400
TZOFFSETTO:-0500
TZNAME:EST
DTSTART:20241103T060000
END:STANDARD
BEGIN:DAYLIGHT
TZOFFSETFROM:-0500
TZOFFSETTO:-0400
TZNAME:EDT
DTSTART:20250309T070000
END:DAYLIGHT
BEGIN:STANDARD
TZOFFSETFROM:-0400
TZOFFSETTO:-0500
TZNAME:EST
DTSTART:20251102T060000
END:STANDARD
END:VTIMEZONE
BEGIN:VEVENT
DTSTART;TZID=America/New_York:20240126T070000
DTEND;TZID=America/New_York:20240126T210000
DTSTAMP:20260422T120456
CREATED:20240112T063841Z
LAST-MODIFIED:20240112T064057Z
UID:13414-1706252400-1706302800@amaboston.org
SUMMARY:Holistic Digital\, A New Approach to Driving Results with Cory Docken
DESCRIPTION:Holistic digital is a data-driven\, “growth marketing” approach that drives leads and revenues by increasing the productivity of your digital marketing. When SEO\, UX and CRO are considered as one and implemented properly\, it leads to optimized website/digital marketing that produces incremental results. Keyword strategy and relevance can significantly impact conversions while page layout and content strategy impact SEO\, PPC\, and other traffic. Optimizing conversion rates depends on a clear understanding of the user journey\, neuromarketing\, and persuasive design psychology. It can be complicated\, but when broken down it can be understood by all. \nLearning Objectives: \n1. Understand the key elements of a holistic digital marketing approach \n2. Learn how to bring these elements together to drive business results \n3. See how one specific company changed their digital game with a holistic approach \nDon’t miss this opportunity to unlock the secrets of Holistic Digital Mastery and propel your digital marketing work to new heights! Join us on Thursday\, January 25th from 6:00 – 8:00 PM! \nFor questions\, please contact theoffice@amaboston.org. \nAbout Cory Docken \nCory Docken is the Vice President of Business Development at O8\, a dynamic growth marketing agency headquartered in Minneapolis\, Minnesota. With a relentless drive for excellence\, Cory has carved an illustrious career in the field of marketing\, becoming a leading figure in the industry. His dedication to the craft extends beyond his role at O8; he currently holds the prestigious position of President within the Minnesota chapter of the American Marketing Association\, where he tirelessly champions marketing excellence and innovation. \nCory Docken’s leadership extends to the healthcare sector\, as he has previously served as the President of the Minnesota Healthcare Strategy and Communications Network (MHSCN). His multifaceted experience spans over 25 years\, marked by exceptional accomplishments across various sectors\, including B2B\, healthcare\, financial services\, higher education\, and technology. \nIn the ever-evolving landscape of marketing\, Cory Docken’s expertise stands out. For the past decade\, he has been a leading proponent of digital marketing strategy\, consistently adapting to emerging trends and technologies to drive success for his clients and partners. With his visionary leadership\, Cory continues to shape the future of marketing while leaving an indelible mark on the industry.
URL:https://amaboston.org/event/holistic-digital-a-new-approach-to-driving-results-with-cory-docken/
LOCATION:Online
ATTACH;FMTTYPE=image/jpeg:https://amaboston.org/wp-content/uploads/2024/01/https___cdn.evbuc_.com_images_658243179_111787070_1_original.jpg
END:VEVENT
END:VCALENDAR