BEGIN:VCALENDAR
VERSION:2.0
PRODID:-//AMA Boston - ECPv6.15.20//NONSGML v1.0//EN
CALSCALE:GREGORIAN
METHOD:PUBLISH
X-WR-CALNAME:AMA Boston
X-ORIGINAL-URL:https://amaboston.org
X-WR-CALDESC:Events for AMA Boston
REFRESH-INTERVAL;VALUE=DURATION:PT1H
X-Robots-Tag:noindex
X-PUBLISHED-TTL:PT1H
BEGIN:VTIMEZONE
TZID:America/New_York
BEGIN:DAYLIGHT
TZOFFSETFROM:-0500
TZOFFSETTO:-0400
TZNAME:EDT
DTSTART:20230312T070000
END:DAYLIGHT
BEGIN:STANDARD
TZOFFSETFROM:-0400
TZOFFSETTO:-0500
TZNAME:EST
DTSTART:20231105T060000
END:STANDARD
BEGIN:DAYLIGHT
TZOFFSETFROM:-0500
TZOFFSETTO:-0400
TZNAME:EDT
DTSTART:20240310T070000
END:DAYLIGHT
BEGIN:STANDARD
TZOFFSETFROM:-0400
TZOFFSETTO:-0500
TZNAME:EST
DTSTART:20241103T060000
END:STANDARD
BEGIN:DAYLIGHT
TZOFFSETFROM:-0500
TZOFFSETTO:-0400
TZNAME:EDT
DTSTART:20250309T070000
END:DAYLIGHT
BEGIN:STANDARD
TZOFFSETFROM:-0400
TZOFFSETTO:-0500
TZNAME:EST
DTSTART:20251102T060000
END:STANDARD
END:VTIMEZONE
BEGIN:VEVENT
DTSTART;TZID=America/New_York:20240221T180000
DTEND;TZID=America/New_York:20240221T200000
DTSTAMP:20260422T100911
CREATED:20240112T064706Z
LAST-MODIFIED:20240112T065441Z
UID:13417-1708538400-1708545600@amaboston.org
SUMMARY:February Marketing Mingle with Mass Professional Networking
DESCRIPTION:AMA Boston and Mass Professional Networking would like to invite you to our February Boston Business Networking & Social Event at Howl At The Moon in Boston\, MA from 6:00pm – 8:00pm on Tuesday\, February 21st\, 2024. \nAll professionals are welcome whether you are simply working on building your network\, looking for business leads\, looking for a new job or just like to meet people. \nSo come and bring your friends\, a smile\, and lots of business cards and make some great connections. Even if this is your first networking event\, your hosts will make sure you make some great connections and feel very welcome. The goal is to build a great referral network for you for your success. \n—– \nMass Professional Networking is also partnering w/ AMA Boston & Drinks For Good \nDrinks For Good is a non-profit organization with the mission of supporting local charities through social events in the Greater Boston area. Drinks for Good is happy to announce our spotlight charity partner\, One Mission. Getting through cancer is tough physically\, emotionally\, and financially for patients and their families. One Mission makes it easier by providing programs and services that reduce stress\, restore joy\, and give children and their loved ones the support they need to get through the daily challenges of treatment. \n—– \nTransportation Options – 10 min walk from South Station and Post Office Square Garage ($9 after 4pm). \nAny questions? Please reach out to us at theoffice@amaboston.org!
URL:https://amaboston.org/event/february-marketing-mingle-with-mass-professional-networking/
LOCATION:Howl at the Moon Boston\, 184 High Street\, Boston\, MA\, 02110\, United States
ATTACH;FMTTYPE=image/jpeg:https://amaboston.org/wp-content/uploads/2024/01/https___cdn.evbuc_.com_images_657527799_111787070_1_original.jpg
END:VEVENT
END:VCALENDAR