BEGIN:VCALENDAR
VERSION:2.0
PRODID:-//AMA Boston - ECPv6.15.20//NONSGML v1.0//EN
CALSCALE:GREGORIAN
METHOD:PUBLISH
X-WR-CALNAME:AMA Boston
X-ORIGINAL-URL:https://amaboston.org
X-WR-CALDESC:Events for AMA Boston
REFRESH-INTERVAL;VALUE=DURATION:PT1H
X-Robots-Tag:noindex
X-PUBLISHED-TTL:PT1H
BEGIN:VTIMEZONE
TZID:America/New_York
BEGIN:DAYLIGHT
TZOFFSETFROM:-0500
TZOFFSETTO:-0400
TZNAME:EDT
DTSTART:20240310T070000
END:DAYLIGHT
BEGIN:STANDARD
TZOFFSETFROM:-0400
TZOFFSETTO:-0500
TZNAME:EST
DTSTART:20241103T060000
END:STANDARD
BEGIN:DAYLIGHT
TZOFFSETFROM:-0500
TZOFFSETTO:-0400
TZNAME:EDT
DTSTART:20250309T070000
END:DAYLIGHT
BEGIN:STANDARD
TZOFFSETFROM:-0400
TZOFFSETTO:-0500
TZNAME:EST
DTSTART:20251102T060000
END:STANDARD
BEGIN:DAYLIGHT
TZOFFSETFROM:-0500
TZOFFSETTO:-0400
TZNAME:EDT
DTSTART:20260308T070000
END:DAYLIGHT
BEGIN:STANDARD
TZOFFSETFROM:-0400
TZOFFSETTO:-0500
TZNAME:EST
DTSTART:20261101T060000
END:STANDARD
END:VTIMEZONE
BEGIN:VEVENT
DTSTART;TZID=America/New_York:20250617T180000
DTEND;TZID=America/New_York:20250617T190000
DTSTAMP:20260424T195714
CREATED:20250520T134516Z
LAST-MODIFIED:20250609T170753Z
UID:14508-1750183200-1750186800@amaboston.org
SUMMARY:AMA Boston June (Virtual) Meet Up
DESCRIPTION:Get ready to mix and mingle with your fellow marketers online during our June Virtual Networking Meet-up on June 17th!\n\n\nAMA Boston invites you to our June Virtual Networking Meet-up from 6:00 pm – 7:00 pm on Tuesday\, June 17th! \nJoin us for a fun hour of networking and socializing with other marketing professionals. Don’t miss this opportunity to connect with like-minded individuals in a relaxed and casual setting. Our hosts\, Erica Brookhyser and Shawn Fitzmaurice\, will kick the evening off before you jump into breakout rooms to continue the conversation. \nCome ready to share ideas\, make new contacts\, and have a great time! We look forward to seeing you there! \nSponsorships \nWant to become a sponsor of this event or a future AMA Boston event? Reach out to sponsorship@amaboston.org! \nAbout the American Marketing Association (AMA) Boston: \nThe American Marketing Association (AMA) Boston is the networking and educational hub for New England marketers. Our mission is to build a community of marketers who can share experiences\, learn about the latest marketing trends\, and build a powerful professional network. AMA Boston empowers its members with the knowledge and resources they need to be leaders in their careers and organizations. Learn more at https://www.amaboston.org. \nAny questions? Please reach out to us at theoffice@amaboston.org!
URL:https://amaboston.org/event/ama-boston-june-virtual-meet-up/
LOCATION:Virtual
ATTACH;FMTTYPE=image/png:https://amaboston.org/wp-content/uploads/2025/05/Screenshot-2025-05-20-at-09.42.55.png
END:VEVENT
BEGIN:VEVENT
DTSTART;TZID=America/New_York:20250618T180000
DTEND;TZID=America/New_York:20250618T200000
DTSTAMP:20260424T195714
CREATED:20250512T184517Z
LAST-MODIFIED:20250512T185653Z
UID:14497-1750269600-1750276800@amaboston.org
SUMMARY:AMA Boston: June Marketing Mingle
DESCRIPTION:Get ready to mix and mingle with your fellow marketers at the June Marketing Mingle on Wednesday\, June 18th!\n\n\nAMA Boston invites you to our June Marketing Mingle at The Bosworth (90 Tremont Street) in Boston from 6:00 pm – 8:00 pm on Wednsday\, June 18th! \nJoin us for a fun evening of networking and socializing with other marketing professionals. Don’t miss this opportunity to connect with like-minded individuals in a relaxed and casual setting. \nCome ready to share ideas\, make new contacts\, and have a great time! We look forward to seeing you there! \nWant to become a sponsor of this event or a future AMA Boston event? Reach out to sponsorship@amaboston.org! \nAbout the American Marketing Association (AMA) Boston: \nThe American Marketing Association (AMA) Boston is the networking and educational hub for New England marketers. Our mission is to build a community of marketers who can share experiences\, learn about the latest marketing trends\, and build a powerful professional network. AMA Boston empowers its members with the knowledge and resources they need to be leaders in their careers and organizations. Learn more at https://www.amaboston.org. \nAny questions? Please reach out to us at theoffice@amaboston.org!
URL:https://amaboston.org/event/ama-boston-june-marketing-mingle/
LOCATION:90 Tremont St\, 90 Tremont Street\, Boston\, MA\, 02108\, United States
ATTACH;FMTTYPE=image/png:https://amaboston.org/wp-content/uploads/2025/05/Screenshot-2025-05-12-at-14.47.51.png
END:VEVENT
BEGIN:VEVENT
DTSTART;TZID=America/New_York:20250624T180000
DTEND;TZID=America/New_York:20250624T200000
DTSTAMP:20260424T195714
CREATED:20250528T192056Z
LAST-MODIFIED:20250614T184326Z
UID:14535-1750788000-1750795200@amaboston.org
SUMMARY:Marketing with Pride: LGBTQ+ Voices Leading the Way
DESCRIPTION:Marketing with Pride: LGBTQ+ Voices Leading the Way\nDiscover how LGBTQ+ marketers are driving impact\, building inclusive brands\, and reshaping the future of marketing through authenticity! \n\n\n\nJoin AMA Boston for an evening of connection\, storytelling\, and celebration as we honor Pride Month by spotlighting LGBTQ+ professionals who are shaping the future of marketing. This panel will feature industry leaders who will share how their personal journeys have influenced their careers\, fueled their creativity\, and empowered them to lead with purpose. Hear how LGBTQ+ marketers have overcome challenges\, built strong networks\, and led inclusive campaigns. \nWhether you’re just starting out in your career or looking to grow as an LGBTQ+ leader or ally\, this is your chance to learn from and celebrate a vibrant community of changemakers who bring bold ideas and authentic voices to the table. \nPanelists: \n\nKatie Martell – Author & Producer\nPat Timmons – Social & Brand Marketer\nGilesa Thomas – The Director of Digital Engagement at the Possible Zone and the Marketing Chair for Boston Roller Derby\n\nModerator: \n\nAllen Ibrahim – VP of Content at AMA Boston\n\nJoin us on Tuesday\, June 24th\, from 6:00 – 8:00 PM at Club Café in Boston. Come celebrate Pride month with AMA Boston! 🏳️‍🌈 \nHighlighted Sponsor: Researchscape International\nResearchscape International is an agile market research consultancy delivering high-quality custom and omnibus surveys\, automated reporting tools as well as other research-related services\, to marketers and agencies.\nOur surveys are frequently used to drive thought leadership\, support content creation\, and help grow organizations’ public profiles. Other services support specific client needs including concept testing\, feature prioritization\, crisis communications\, customer satisfaction and more.\n\n\n\n\n\n\nHighlighted Photographer: Edgar Domínguez\nEdgar Domínguez focuses on Design (Branding Design) and Photography (Portrait and Scenery).\nLearn more at: https://www.edomphoto.com\n\n\n\n\n\nWant to become a sponsor of a future AMA Boston event? Reach out to sponsorship@amaboston.org! \nAbout the American Marketing Association (AMA) Boston: \nThe American Marketing Association (AMA) Boston is the networking and educational hub for New England marketers. Our mission is to build a community of marketers who can share experiences\, learn about the latest marketing trends\, and build a powerful professional network. AMA Boston empowers its members with the knowledge and resources they need to be leaders in their careers and organizations. Learn more at https://www.amaboston.org. \n—– \nAny questions? Please reach out to us at theoffice@amaboston.org!
URL:https://amaboston.org/event/marketing-with-pride-lgbtq-voices-leading-the-way/
LOCATION:Club Café\, 209 Columbus Avenue\, Boston\, MA\, 02116\, United States
ATTACH;FMTTYPE=image/png:https://amaboston.org/wp-content/uploads/2025/05/Sponsored-scaled.png
END:VEVENT
BEGIN:VEVENT
DTSTART;TZID=America/New_York:20250626T180000
DTEND;TZID=America/New_York:20250626T193000
DTSTAMP:20260424T195714
CREATED:20250528T191514Z
LAST-MODIFIED:20250528T191700Z
UID:14526-1750960800-1750966200@amaboston.org
SUMMARY:Unlocking Your Marketing Career: Perspectives on Landing the Right Role
DESCRIPTION:Learn how to break into marketing and stand out from the crowd! Join us on Thursday\, June 26th\, at the Boston Public Library!\n\n\nWondering how to land your first marketing job and stand out in a competitive industry? Join us for an informative panel discussion where a career coach\, a recruiter\, a talent acquisition partner\, and a seasoned marketing expert will share practical insights on how to launch and grow your marketing career. \nThis Q&A-style event will cover: \n\nResume and personal brand development to help you shine\nNetworking and job search strategies that actually work\nInterviewing skills and etiquette to impress hiring managers\nMarketing career paths and emerging opportunities in the industry\n\nPanelists \n\nChris Greene – Co-Founder\, CEO & Head Cheerleader at YoPro\nJeff DeSocio – Managing Director at Broadreach Executive Search\nBrian Alves – Co-Founder at MarketingNerds.ai\nKiran Gill – Strategic Talent Acquisition Partner & Certified Career Coach\n\nModerator \n\nHenrik Owenmark – Marketing Lead\, GTM Campaigns + Partnerships\n\nDon’t miss this chance to gain valuable advice from professionals who know what it takes to get hired\, thrive\, and grow in marketing. \nJoin us on Thursday\, June 26th\, at 6:00 PM at the Boston Public Library\, Commonwealth Salon\, McKim Building (700 Boylston St\, Boston). \n—– \nWant to become a sponsor of this event or a future AMA Boston event? Reach out to sponsorship@amaboston.org! \n—– \nAbout the American Marketing Association (AMA) Boston: \nThe American Marketing Association (AMA) Boston is the networking and educational hub for New England marketers. Our mission is to build a community of marketers who can share experiences\, learn about the latest marketing trends\, and build a powerful professional network. AMA Boston empowers its members with the knowledge and resources they need to be leaders in their careers and organizations. Learn more at https://www.amaboston.org. \n—– \nAny questions? Please reach out to us at theoffice@amaboston.org!
URL:https://amaboston.org/event/unlocking-your-marketing-career-perspectives-on-landing-the-right-role/
LOCATION:700 Boylston St\, 700 Boylston Street\, Boston Public Library\, Commonwealth Salon\, McKim Building\, Boston\, MA\, 02116\, United States
ATTACH;FMTTYPE=image/jpeg:https://amaboston.org/wp-content/uploads/2025/05/41bc8596476af27946896d3640f0e057.jpg
END:VEVENT
END:VCALENDAR