BEGIN:VCALENDAR
VERSION:2.0
PRODID:-//AMA Boston - ECPv6.15.20//NONSGML v1.0//EN
CALSCALE:GREGORIAN
METHOD:PUBLISH
X-WR-CALNAME:AMA Boston
X-ORIGINAL-URL:https://amaboston.org
X-WR-CALDESC:Events for AMA Boston
REFRESH-INTERVAL;VALUE=DURATION:PT1H
X-Robots-Tag:noindex
X-PUBLISHED-TTL:PT1H
BEGIN:VTIMEZONE
TZID:America/New_York
BEGIN:DAYLIGHT
TZOFFSETFROM:-0500
TZOFFSETTO:-0400
TZNAME:EDT
DTSTART:20230312T070000
END:DAYLIGHT
BEGIN:STANDARD
TZOFFSETFROM:-0400
TZOFFSETTO:-0500
TZNAME:EST
DTSTART:20231105T060000
END:STANDARD
BEGIN:DAYLIGHT
TZOFFSETFROM:-0500
TZOFFSETTO:-0400
TZNAME:EDT
DTSTART:20240310T070000
END:DAYLIGHT
BEGIN:STANDARD
TZOFFSETFROM:-0400
TZOFFSETTO:-0500
TZNAME:EST
DTSTART:20241103T060000
END:STANDARD
BEGIN:DAYLIGHT
TZOFFSETFROM:-0500
TZOFFSETTO:-0400
TZNAME:EDT
DTSTART:20250309T070000
END:DAYLIGHT
BEGIN:STANDARD
TZOFFSETFROM:-0400
TZOFFSETTO:-0500
TZNAME:EST
DTSTART:20251102T060000
END:STANDARD
END:VTIMEZONE
BEGIN:VEVENT
DTSTART;TZID=America/New_York:20241107T180000
DTEND;TZID=America/New_York:20241107T193000
DTSTAMP:20260422T205006
CREATED:20241014T154832Z
LAST-MODIFIED:20241014T155959Z
UID:13980-1731002400-1731007800@amaboston.org
SUMMARY:AMA Boston & Suffolk: Woke and Weary: Marketing in an Era of Cause Fatigue
DESCRIPTION:AMA Boston and Suffolk University present: Woke and Weary: Marketing in an Era of Cause Fatigue with Katie Martell \nPrevailing advice from the last decade says brands should align with our buyers on shared values and support the causes our employees and customers care about… \nSomewhere along the way\, the Marketing industry lost sight of authentic corporate allyship in favor of performative “woke-washing.” \nNow\, amid a time of immense social change in the US\, rhetoric like “go woke\, go broke” and a divisive political climate\, marketers find themselves frozen – caught in the midst of chaos. \nIn this talk from “marketing truth-teller” Katie Martell\, we’ll learn more about how we got to this very weird moment in marketing history. We’ll dig into recent lessons from brands and rethink how to connect with a weary marketplace. \nThis talk is open to consumers who want to be more conscious of the advertising they see and all marketing professionals with responsibility for the brands we steward. \nJoin us on Thursday\, November 7th\, from 6:00-7:30 PM ET at Suffolk University (120 Tremont St. – 5th Floor)! \nNote: At the request of the speaker\, this event will be FREE for all! \n—— \nAbout Katie Martell \nKatie Martell is known as a “marketing truth-teller” whose work explores the intersection of marketing\, culture\, and social justice. She has appeared on stages around the world and in publications from the New York Times to the BBC for her perspective. Named a Top Voice in Marketing on LinkedIn and an Adweek Pride Star\, her work aims to shine a light on important narratives and echo Mary Oliver’s words: “To pay attention\, this is our endless and proper work.” Learn more at www.katie-martell.com
URL:https://amaboston.org/event/ama-boston-suffolk-woke-and-weary-marketing-in-an-era-of-cause-fatigue/
LOCATION:Suffolk University\, 120 Tremont Street 5th Floor\, Boston\, MA\, 02108\, United States
CATEGORIES:Community,Educational,Outreach
ATTACH;FMTTYPE=image/jpeg:https://amaboston.org/wp-content/uploads/2024/10/https___cdn.evbuc_.com_images_868777819_111787070_1_original-1.jpeg
END:VEVENT
END:VCALENDAR