BEGIN:VCALENDAR
VERSION:2.0
PRODID:-//AMA Boston - ECPv6.15.20//NONSGML v1.0//EN
CALSCALE:GREGORIAN
METHOD:PUBLISH
X-WR-CALNAME:AMA Boston
X-ORIGINAL-URL:https://amaboston.org
X-WR-CALDESC:Events for AMA Boston
REFRESH-INTERVAL;VALUE=DURATION:PT1H
X-Robots-Tag:noindex
X-PUBLISHED-TTL:PT1H
BEGIN:VTIMEZONE
TZID:America/New_York
BEGIN:DAYLIGHT
TZOFFSETFROM:-0500
TZOFFSETTO:-0400
TZNAME:EDT
DTSTART:20230312T070000
END:DAYLIGHT
BEGIN:STANDARD
TZOFFSETFROM:-0400
TZOFFSETTO:-0500
TZNAME:EST
DTSTART:20231105T060000
END:STANDARD
BEGIN:DAYLIGHT
TZOFFSETFROM:-0500
TZOFFSETTO:-0400
TZNAME:EDT
DTSTART:20240310T070000
END:DAYLIGHT
BEGIN:STANDARD
TZOFFSETFROM:-0400
TZOFFSETTO:-0500
TZNAME:EST
DTSTART:20241103T060000
END:STANDARD
BEGIN:DAYLIGHT
TZOFFSETFROM:-0500
TZOFFSETTO:-0400
TZNAME:EDT
DTSTART:20250309T070000
END:DAYLIGHT
BEGIN:STANDARD
TZOFFSETFROM:-0400
TZOFFSETTO:-0500
TZNAME:EST
DTSTART:20251102T060000
END:STANDARD
END:VTIMEZONE
BEGIN:VEVENT
DTSTART;TZID=America/New_York:20240823T183000
DTEND;TZID=America/New_York:20240823T213000
DTSTAMP:20260423T000554
CREATED:20240807T141454Z
LAST-MODIFIED:20240807T141454Z
UID:13818-1724437800-1724448600@amaboston.org
SUMMARY:AMA Summer Networking Mixer: Join us for a Boston Harbor Cruise
DESCRIPTION:Imagine a night of cruising around Boston\, sipping on cocktails\, and dancing the night away under the stars. AMA is joining the Seaport Summer Cruise Series for the perfect summer night of networking\, mixing\, and dancing! \nWhy Attend the AMA Seaport Summer Cruise?\n\nExperience the beautiful Provincetown II ship which features three floors of live music\, bars\, and dance floors. Listen to the top songs of the 90s\, 00’s and today\nEnjoy 360 views of Boston and spend your night with the backdrop of the city\n\nAbout AMA Boston \nThe American Marketing Association (AMA) Boston is the networking and educational hub for New England marketers. Our mission is to build a community of marketers who can share experiences\, learn about the latest marketing trends\, and build a powerful professional network. AMA Boston empowers its members with the knowledge and resources they need to be leaders in their careers and organizations. Learn more at https://www.amaboston.org. \nRain or shine\, you’ll have a great time!💃🏼 \nThis event is a 21+ affair. \n\n\nDress Theme & Music\nNeon/Glow Party – Wear Pink\, Orange\, & Green Neon colorsmus🧡💚💖 \nEnjoy music by your very own AMA Member aka DJ Kamal \n\n\n\n\nFAQ\nLOCATION – Bay State Cruise Company\, Commonwealth Pier\, 200 Seaport Blvd\, – Pier entry is across from Morton’s & Tamo Restaurant at Seaport Hotel. The ships name is: Provincetown II and proceed down the pier to the registration table \nTickets: Have tickets pulled up on your phone prior to entering the dock area as wifi can be spotty or bring a printout. We need to scan the barcode so have it ready for quick easy access. \nWhat are the Ticket Tiers: The ticket tiers are all the same entry. If a lower price tier sells out then we go to the next price tier available. If you see multiple tiers go with the lowest cost available at the time of purchase. \nWhat should I do if it is raining or bad weather? All cruises go out rain or shine (even thunderstorms). The boat has 2 fully covered decks… Grab your cutest rain boots and meet us on the dock! \nWhat is an acceptable form of ID? THIS EVENT IS 21+. Security accepts State issued drivers’ licenses. Out of State IDs will be subjected to the additional check of being run through an ID scanner. The scanner can detect imperfections in a falsely produced ID. Non drivers may present State issued IDs intended for those that don’t drive. Non-US Citizens are to present passport IDs. You will not be allowed on the boat without proper identification. \nWhat is NOT ok to bring? Security does not allow any food or beverage past registration. Although cannabis may be legal locally the ground and boat is under federal regulations that make all substances illegal. No pipes\, products\, or other paraphernalia is permitted and will be confiscated at the dock by the state police. \nWhat is your ticket policy? The ticket policy is NO refunds\, credits or exchanges. All cruises are rain or shine and do not get cancelled. \nWhere can I find the boat/registration? Seaport Marine Terminal/Commonwealth Pier\, 200 Seaport Blvd across from Morton’s restaurant. The ships name is Provincetown II at Bay State Cruise Company. \nWhat time do I really need to be there? The boat leaves at 7:00pm sharp and returns at 9:30pm. We start boarding at 6:30pm and you must arrive by 6:45pm. Please arrive early – we would hate to leave without you. \nDo you take Credit Cards? No. This is a cash only bar/food only. ATM’s are located inside at the Seaport Hotel. Please plan accordingly. \nWho is going? We typically have 500+ young professional guests with a great mix of males & females looking to have an amazing fun night out on the harbor. \nWhat to wear? Casual fun dress – jeans\, sneakers\, collared shirt (guys)\, sun dress is perfect. We suggest flats and no heels as this is a moving boat. \nWhat kind of drinks and food do you offer? Enjoy some of the best drinks on the water with 7+ full cash bars. Pizza\, hotdogs and other light snacks are available for purchase. \nIs there a bathroom on the boat? Yes\, there is a bathroom available. \nHow to get there and parking? \nPARKING – Many meters and lots are available. Use Spothero app for best options. \nSUBWAY – Take the subway to South Station and transfer to the Silver Line (the Silver Line also travels through the South End/Back Bay).The Silver Line departs approximately every five minutes to the World Trade Center stop and the trip is just a few minutes. \nLastly+ This is a 21+ party and proper id is required – A US driver License or Foreign License with Passport. Please no pre-gaming on dock you will not be admitted! \nhttps://www.eventbrite.com/e/ama-summer-networking-mixer-join-us-for-a-boston-harbor-cruise-tickets-976496857387?aff=oddtdtcreator
URL:https://amaboston.org/event/ama-summer-cruise/
CATEGORIES:Community,Food,Music
ATTACH;FMTTYPE=image/png:https://amaboston.org/wp-content/uploads/2024/08/Screenshot-2024-08-07-at-10.09.01 AM.png
END:VEVENT
END:VCALENDAR