BEGIN:VCALENDAR
VERSION:2.0
PRODID:-//AMA Boston - ECPv6.15.20//NONSGML v1.0//EN
CALSCALE:GREGORIAN
METHOD:PUBLISH
X-ORIGINAL-URL:https://amaboston.org
X-WR-CALDESC:Events for AMA Boston
REFRESH-INTERVAL;VALUE=DURATION:PT1H
X-Robots-Tag:noindex
X-PUBLISHED-TTL:PT1H
BEGIN:VTIMEZONE
TZID:America/New_York
BEGIN:DAYLIGHT
TZOFFSETFROM:-0500
TZOFFSETTO:-0400
TZNAME:EDT
DTSTART:20230312T070000
END:DAYLIGHT
BEGIN:STANDARD
TZOFFSETFROM:-0400
TZOFFSETTO:-0500
TZNAME:EST
DTSTART:20231105T060000
END:STANDARD
BEGIN:DAYLIGHT
TZOFFSETFROM:-0500
TZOFFSETTO:-0400
TZNAME:EDT
DTSTART:20240310T070000
END:DAYLIGHT
BEGIN:STANDARD
TZOFFSETFROM:-0400
TZOFFSETTO:-0500
TZNAME:EST
DTSTART:20241103T060000
END:STANDARD
BEGIN:DAYLIGHT
TZOFFSETFROM:-0500
TZOFFSETTO:-0400
TZNAME:EDT
DTSTART:20250309T070000
END:DAYLIGHT
BEGIN:STANDARD
TZOFFSETFROM:-0400
TZOFFSETTO:-0500
TZNAME:EST
DTSTART:20251102T060000
END:STANDARD
END:VTIMEZONE
BEGIN:VEVENT
DTSTART;TZID=America/New_York:20241030T180000
DTEND;TZID=America/New_York:20241030T200000
DTSTAMP:20260422T074518
CREATED:20240923T133110Z
LAST-MODIFIED:20240923T133110Z
UID:13885-1730311200-1730318400@amaboston.org
SUMMARY:AMA Boston October Marketing Mingle
DESCRIPTION:AMA Boston October Marketing Mingle\n\n\n\n\nGet ready to mix and mingle with your fellow marketers at the October Marketing Mingle on October 30th! \n\n\nAMA Boston is inviting you to our October Marketing Mingle at Better Sorts in Boston\, MA from 6:00 pm - 8:00 pm on Wednesday\, October 30th! \nJoin us for a fun evening of networking and socializing with other marketing professionals. Don't miss this opportunity to connect with like-minded individuals in a relaxed and casual setting. \nCome ready to share ideas\, make new contacts\, and have a great time! We look forward to seeing you there! \nAbout the American Marketing Association (AMA) Boston: \nThe American Marketing Association (AMA) Boston is the networking and educational hub for New England marketers. Our mission is to build a community of marketers who can share experiences\, learn about the latest marketing trends\, and build a powerful professional network. AMA Boston empowers its members with the knowledge and resources they need to be leaders in their careers and organizations. Learn more at https://www.amaboston.org. \nAny questions? Please reach out to us at theoffice@amaboston.org!
URL:https://amaboston.org/event/ama-boston-october-marketing-mingle/
LOCATION:Better Sorts Social Club\, 90 Tremont St\, Boston\, MA\, 02108\, United States
CATEGORIES:Community,Educational
ATTACH;FMTTYPE=image/png:https://amaboston.org/wp-content/uploads/2024/09/Screenshot-2024-09-23-at-9.29.04 AM.png
END:VEVENT
END:VCALENDAR