BEGIN:VCALENDAR
VERSION:2.0
PRODID:-//AMA Boston - ECPv6.15.20//NONSGML v1.0//EN
CALSCALE:GREGORIAN
METHOD:PUBLISH
X-WR-CALNAME:AMA Boston
X-ORIGINAL-URL:https://amaboston.org
X-WR-CALDESC:Events for AMA Boston
REFRESH-INTERVAL;VALUE=DURATION:PT1H
X-Robots-Tag:noindex
X-PUBLISHED-TTL:PT1H
BEGIN:VTIMEZONE
TZID:America/New_York
BEGIN:DAYLIGHT
TZOFFSETFROM:-0500
TZOFFSETTO:-0400
TZNAME:EDT
DTSTART:20230312T070000
END:DAYLIGHT
BEGIN:STANDARD
TZOFFSETFROM:-0400
TZOFFSETTO:-0500
TZNAME:EST
DTSTART:20231105T060000
END:STANDARD
BEGIN:DAYLIGHT
TZOFFSETFROM:-0500
TZOFFSETTO:-0400
TZNAME:EDT
DTSTART:20240310T070000
END:DAYLIGHT
BEGIN:STANDARD
TZOFFSETFROM:-0400
TZOFFSETTO:-0500
TZNAME:EST
DTSTART:20241103T060000
END:STANDARD
BEGIN:DAYLIGHT
TZOFFSETFROM:-0500
TZOFFSETTO:-0400
TZNAME:EDT
DTSTART:20250309T070000
END:DAYLIGHT
BEGIN:STANDARD
TZOFFSETFROM:-0400
TZOFFSETTO:-0500
TZNAME:EST
DTSTART:20251102T060000
END:STANDARD
END:VTIMEZONE
BEGIN:VEVENT
DTSTART;TZID=America/New_York:20240816T130000
DTEND;TZID=America/New_York:20240816T160000
DTSTAMP:20260419T165600
CREATED:20240807T140659Z
LAST-MODIFIED:20240807T141646Z
UID:13814-1723813200-1723824000@amaboston.org
SUMMARY:AMA Summer Conference: Cutting Edge AI Workshop
DESCRIPTION:Join AMA Boston at the 2024 AMA Summer Academic Conference on Friday\, August 16th\, from 1:00 – 4:00 PM at the Boston Marriott Copley Place (110 Huntington Ave in Boston) – Simmons (3rd Floor) for an exciting cutting edge AI workshop hosted by AISIG\, a specialty interest group within AMA. This exclusive Mixer on AI in Marketing will feature insights from industry practitioners and innovative startup founders. \nThis event will showcase cutting-edge AI-driven marketing applications and provide perspectives from both academic scholars and industry experts. Leading companies and startups will have an opportunity to pitch their AI offerings and demonstrate their unique contributions to the field. \nParticipants will be organized into teams to brainstorm and compile key research topics in AI and marketing. The goals of the session include: \n\nInspiring participants with the latest AI applications in marketing.\nFostering collaboration between academia\, startups\, and corporations to develop new AI research avenues and applications.\n\nThis workshop is being organized and led by: \n\nProf. Dr. Kay Peters\, Professor\, Universität Hamburg\, Marketing & Dialogue Marketing\nKoen Pauwels\, Distinguished Professor of Marketing\, Northeastern University\, Boston and co-director of its Digital\, Analytics\, Technology and Automation (DATA) Initiative\nAlok R. Saboo\, Taylor E. Little Jr. Professor of Marketing\, Georgia State University\n\nAfter the workshop\, attendees will have the opportunity to network and join the poster presentation over light refreshments and appetizers. We at the AMA pride ourselves on highlighting cutting edge and important research in the marketing discipline. During the poster session\, attendees can learn more about various research projects and current journal submissions. \nDon’t miss this opportunity to connect and innovate at the intersection of AI and marketing! \n—– \nAbout AMA Boston \nThe American Marketing Association (AMA) Boston is the networking and educational hub for New England marketers. Our mission is to build a community of marketers who can share experiences\, learn about the latest marketing trends\, and build a powerful professional network. AMA Boston empowers its members with the knowledge and resources they need to be leaders in their careers and organizations. Learn more at https://www.amaboston.org. \n—– \nAny questions? Please reach out to us at theoffice@amaboston.org! \n\n\n\n\n\n\n\n\n\n\n\n\n\n\n\n\n\nhttps://www.eventbrite.com/e/ama-summer-conference-2024-cutting-edge-ai-workshop-with-ama-boston-tickets-952844091327?aff=ebdsoporgprofile
URL:https://amaboston.org/event/ama-summer-conference/
CATEGORIES:Community,Educational
ATTACH;FMTTYPE=image/png:https://amaboston.org/wp-content/uploads/2024/08/Screenshot-2024-08-07-at-10.03.13 AM.png
END:VEVENT
END:VCALENDAR