BEGIN:VCALENDAR
VERSION:2.0
PRODID:-//AMA Boston - ECPv6.15.20//NONSGML v1.0//EN
CALSCALE:GREGORIAN
METHOD:PUBLISH
X-ORIGINAL-URL:https://amaboston.org
X-WR-CALDESC:Events for AMA Boston
REFRESH-INTERVAL;VALUE=DURATION:PT1H
X-Robots-Tag:noindex
X-PUBLISHED-TTL:PT1H
BEGIN:VTIMEZONE
TZID:America/New_York
BEGIN:DAYLIGHT
TZOFFSETFROM:-0500
TZOFFSETTO:-0400
TZNAME:EDT
DTSTART:20230312T070000
END:DAYLIGHT
BEGIN:STANDARD
TZOFFSETFROM:-0400
TZOFFSETTO:-0500
TZNAME:EST
DTSTART:20231105T060000
END:STANDARD
BEGIN:DAYLIGHT
TZOFFSETFROM:-0500
TZOFFSETTO:-0400
TZNAME:EDT
DTSTART:20240310T070000
END:DAYLIGHT
BEGIN:STANDARD
TZOFFSETFROM:-0400
TZOFFSETTO:-0500
TZNAME:EST
DTSTART:20241103T060000
END:STANDARD
BEGIN:DAYLIGHT
TZOFFSETFROM:-0500
TZOFFSETTO:-0400
TZNAME:EDT
DTSTART:20250309T070000
END:DAYLIGHT
BEGIN:STANDARD
TZOFFSETFROM:-0400
TZOFFSETTO:-0500
TZNAME:EST
DTSTART:20251102T060000
END:STANDARD
END:VTIMEZONE
BEGIN:VEVENT
DTSTART;TZID=America/New_York:20240424T193000
DTEND;TZID=America/New_York:20240424T203000
DTSTAMP:20260423T000749
CREATED:20240417T160811Z
LAST-MODIFIED:20240417T161110Z
UID:13614-1713987000-1713990600@amaboston.org
SUMMARY:X Chat: Building Audience with Voice
DESCRIPTION:Join us for an X chat with Espree Devora\, themed: “Building audience with voice: How podcasts\, social apps and more are catering to your audience” on 4/24 at 7:30 pm EST.\nEspree Devora is the girl that gets it done\, from Los Angeles\, she is one of the most influential podcast voices there is\, including both her podcast’s “We Are LA Tech” and “Women in Tech”. In addition\, her communities help so many people become familiar with LA and the local tech community. She was also previously the logo for Clubhouse.You can access the chat by visiting our X page: x.com/amaboston or search the hashtag #AMABCHAT to follow along or to add comments or respond to the questions with Espree! Reach out to brian.hurst@amaboston.org for any questions.\n\nhttps://x.com/i/spaces/1vAxRvVmjMNxl
URL:https://amaboston.org/event/x-chat/
ATTACH;FMTTYPE=image/jpeg:https://amaboston.org/wp-content/uploads/2024/04/April-Chat-Espree-Devora-AMABchat.jpg
END:VEVENT
END:VCALENDAR